BEGIN:VCALENDAR
VERSION:2.0
PRODID:-//MRM Ski Patrol - ECPv6.15.17.1//NONSGML v1.0//EN
CALSCALE:GREGORIAN
METHOD:PUBLISH
X-ORIGINAL-URL:https://www.madriverskipatrol.org
X-WR-CALDESC:Events for MRM Ski Patrol
REFRESH-INTERVAL;VALUE=DURATION:PT1H
X-Robots-Tag:noindex
X-PUBLISHED-TTL:PT1H
BEGIN:VTIMEZONE
TZID:America/New_York
BEGIN:DAYLIGHT
TZOFFSETFROM:-0500
TZOFFSETTO:-0400
TZNAME:EDT
DTSTART:20230312T070000
END:DAYLIGHT
BEGIN:STANDARD
TZOFFSETFROM:-0400
TZOFFSETTO:-0500
TZNAME:EST
DTSTART:20231105T060000
END:STANDARD
BEGIN:DAYLIGHT
TZOFFSETFROM:-0500
TZOFFSETTO:-0400
TZNAME:EDT
DTSTART:20240310T070000
END:DAYLIGHT
BEGIN:STANDARD
TZOFFSETFROM:-0400
TZOFFSETTO:-0500
TZNAME:EST
DTSTART:20241103T060000
END:STANDARD
BEGIN:DAYLIGHT
TZOFFSETFROM:-0500
TZOFFSETTO:-0400
TZNAME:EDT
DTSTART:20250309T070000
END:DAYLIGHT
BEGIN:STANDARD
TZOFFSETFROM:-0400
TZOFFSETTO:-0500
TZNAME:EST
DTSTART:20251102T060000
END:STANDARD
END:VTIMEZONE
BEGIN:VEVENT
DTSTART;TZID=America/New_York:20240425T183000
DTEND;TZID=America/New_York:20240425T213000
DTSTAMP:20260421T231523
CREATED:20240423T145027Z
LAST-MODIFIED:20250227T174140Z
UID:5234-1714069800-1714080600@www.madriverskipatrol.org
SUMMARY:OEC In-Person Skills Training @ MRM
DESCRIPTION:Chapter 3\,5 & 7 Skills Training
URL:https://www.madriverskipatrol.org/event/oec-in-person-mrm
CATEGORIES:OEC
END:VEVENT
END:VCALENDAR