BEGIN:VCALENDAR
VERSION:2.0
PRODID:-//MRM Ski Patrol - ECPv6.15.17.1//NONSGML v1.0//EN
CALSCALE:GREGORIAN
METHOD:PUBLISH
X-WR-CALNAME:MRM Ski Patrol
X-ORIGINAL-URL:https://www.madriverskipatrol.org
X-WR-CALDESC:Events for MRM Ski Patrol
REFRESH-INTERVAL;VALUE=DURATION:PT1H
X-Robots-Tag:noindex
X-PUBLISHED-TTL:PT1H
BEGIN:VTIMEZONE
TZID:America/New_York
BEGIN:DAYLIGHT
TZOFFSETFROM:-0500
TZOFFSETTO:-0400
TZNAME:EDT
DTSTART:20140309T070000
END:DAYLIGHT
BEGIN:STANDARD
TZOFFSETFROM:-0400
TZOFFSETTO:-0500
TZNAME:EST
DTSTART:20141102T060000
END:STANDARD
BEGIN:DAYLIGHT
TZOFFSETFROM:-0500
TZOFFSETTO:-0400
TZNAME:EDT
DTSTART:20150308T070000
END:DAYLIGHT
BEGIN:STANDARD
TZOFFSETFROM:-0400
TZOFFSETTO:-0500
TZNAME:EST
DTSTART:20151101T060000
END:STANDARD
BEGIN:DAYLIGHT
TZOFFSETFROM:-0500
TZOFFSETTO:-0400
TZNAME:EDT
DTSTART:20160313T070000
END:DAYLIGHT
BEGIN:STANDARD
TZOFFSETFROM:-0400
TZOFFSETTO:-0500
TZNAME:EST
DTSTART:20161106T060000
END:STANDARD
BEGIN:DAYLIGHT
TZOFFSETFROM:-0500
TZOFFSETTO:-0400
TZNAME:EDT
DTSTART:20170312T070000
END:DAYLIGHT
BEGIN:STANDARD
TZOFFSETFROM:-0400
TZOFFSETTO:-0500
TZNAME:EST
DTSTART:20171105T060000
END:STANDARD
END:VTIMEZONE
BEGIN:VEVENT
DTSTART;TZID=America/New_York:20160305T090000
DTEND;TZID=America/New_York:20160305T120000
DTSTAMP:20260421T091749
CREATED:20160214T222807Z
LAST-MODIFIED:20160214T222924Z
UID:820-1457168400-1457179200@www.madriverskipatrol.org
SUMMARY:Alumni Day / End of Season Patrol Party
DESCRIPTION:The annual End-of-Season joint party for the Ski Patrol\, Ski School and Alumni will be Saturday March 5th\, 2016. \nDue to limited space this year\, we will not have a lunch\, but we will still meet to ski\, visit and enjoy the activities planned at the area. If you want to ski\, come early and get some runs in before the party. From 11:00 am to noon we will have some tables between the lodge and the patrol trailer where we can meet and share snacks. Bring your favorite snack to share such as an appetizers\, chips\, cookies\, etc. Bring you own drinks. \nAt noon\, pond skimming begins with the cardboard sled races to follow. You can participate in these events or just enjoy watching.
URL:https://www.madriverskipatrol.org/event/end-of-season-patrol-party
LOCATION:Mad River Mountain Ski Resort\, 1000 Snow Valley Rd\, Zanesfield\, OH\, 43360\, United States
CATEGORIES:MRM General
END:VEVENT
BEGIN:VEVENT
DTSTART;TZID=America/New_York:20160227T090000
DTEND;TZID=America/New_York:20160227T114500
DTSTAMP:20260421T091749
CREATED:20160212T030759Z
LAST-MODIFIED:20160212T030759Z
UID:819-1456563600-1456573500@www.madriverskipatrol.org
SUMMARY:Candidate S&T Test
DESCRIPTION:Come join the fun when the K2’s test in Ski & Toboggan\, and celebrate the completion of their candidacy. \nTesting will begin approximately 9am and should conclude before noon.
URL:https://www.madriverskipatrol.org/event/candidate-st-test
LOCATION:Mad River Mountain Ski Resort\, 1000 Snow Valley Rd\, Zanesfield\, OH\, 43360\, United States
CATEGORIES:S&T
END:VEVENT
BEGIN:VEVENT
DTSTART;TZID=America/New_York:20160220T090000
DTEND;TZID=America/New_York:20160220T120000
DTSTAMP:20260421T091749
CREATED:20160113T010634Z
LAST-MODIFIED:20160216T211334Z
UID:768-1455958800-1455969600@www.madriverskipatrol.org
SUMMARY:JP Meeting
DESCRIPTION:JP Event of the day: Obstacle Course established by Ski School!  Set up based on Interski 2015.  Come explore and be part of the fun! \nBe at MRM by  9am\, We will first have a review of Lightening Safety with the obstacle event start at the Ski School area promptly at 10:30am Sat. \n  \nSee Jess and Lori with any questions.
URL:https://www.madriverskipatrol.org/event/jp-meeting
LOCATION:Mad River Mountain Ski Resort\, 1000 Snow Valley Rd\, Zanesfield\, OH\, 43360\, United States
CATEGORIES:Junior Patrol
END:VEVENT
BEGIN:VEVENT
DTSTART;TZID=America/New_York:20160109T103000
DTEND;TZID=America/New_York:20160109T150000
DTSTAMP:20260421T091749
CREATED:20160106T032807Z
LAST-MODIFIED:20160118T161628Z
UID:736-1452335400-1452351600@www.madriverskipatrol.org
SUMMARY:Parent / JP Meeting
DESCRIPTION:Parents & JP’s: We will be meeting Sat at 12 noon.  JP’s are encouraged to attend a lesson with ski school at 10:30\, their normal group lesson time.  Be at the ski school bell at 10:20am.  The noon meeting will group at the benches outside of the Tanglewood Room. \nContact Jess with any questions!
URL:https://www.madriverskipatrol.org/event/parent-jp-meeting
LOCATION:Mad River Mountain Ski Resort\, 1000 Snow Valley Rd\, Zanesfield\, OH\, 43360\, United States
CATEGORIES:Junior Patrol
END:VEVENT
BEGIN:VEVENT
DTSTART;VALUE=DATE:20151128
DTEND;VALUE=DATE:20151129
DTSTAMP:20260421T091749
CREATED:20151124T185458Z
LAST-MODIFIED:20151124T185458Z
UID:656-1448668800-1448755199@www.madriverskipatrol.org
SUMMARY:Fix-Up\, Clean-Up (FUCU)
DESCRIPTION:The annual FUCU will be starting soon.  Lots to do this year with all new digs and supplies to be stored.  We’ll post details as soon as available.
URL:https://www.madriverskipatrol.org/event/fix-up-clean-up-fucu
LOCATION:Mad River Mountain Ski Resort\, 1000 Snow Valley Rd\, Zanesfield\, OH\, 43360\, United States
CATEGORIES:MRM General
END:VEVENT
BEGIN:VEVENT
DTSTART;TZID=America/New_York:20151101T163000
DTEND;TZID=America/New_York:20151101T173000
DTSTAMP:20260421T091749
CREATED:20151024T193355Z
LAST-MODIFIED:20151024T193435Z
UID:557-1446395400-1446399000@www.madriverskipatrol.org
SUMMARY:Junior Patrol PreSeason Meeting
DESCRIPTION:Junior Patrol 2016 Season Meeting Next Sunday.  JP’s and parents please plan to attend \nContact Jess Conley or Lori Logan with questions
URL:https://www.madriverskipatrol.org/event/jp-preseason-meeting
LOCATION:Mad River Mountain Ski Resort\, 1000 Snow Valley Rd\, Zanesfield\, OH\, 43360\, United States
END:VEVENT
END:VCALENDAR