BEGIN:VCALENDAR
VERSION:2.0
PRODID:-//MRM Ski Patrol - ECPv6.15.17.1//NONSGML v1.0//EN
CALSCALE:GREGORIAN
METHOD:PUBLISH
X-WR-CALNAME:MRM Ski Patrol
X-ORIGINAL-URL:https://www.madriverskipatrol.org
X-WR-CALDESC:Events for MRM Ski Patrol
REFRESH-INTERVAL;VALUE=DURATION:PT1H
X-Robots-Tag:noindex
X-PUBLISHED-TTL:PT1H
BEGIN:VTIMEZONE
TZID:America/New_York
BEGIN:DAYLIGHT
TZOFFSETFROM:-0500
TZOFFSETTO:-0400
TZNAME:EDT
DTSTART:20230312T070000
END:DAYLIGHT
BEGIN:STANDARD
TZOFFSETFROM:-0400
TZOFFSETTO:-0500
TZNAME:EST
DTSTART:20231105T060000
END:STANDARD
BEGIN:DAYLIGHT
TZOFFSETFROM:-0500
TZOFFSETTO:-0400
TZNAME:EDT
DTSTART:20240310T070000
END:DAYLIGHT
BEGIN:STANDARD
TZOFFSETFROM:-0400
TZOFFSETTO:-0500
TZNAME:EST
DTSTART:20241103T060000
END:STANDARD
BEGIN:DAYLIGHT
TZOFFSETFROM:-0500
TZOFFSETTO:-0400
TZNAME:EDT
DTSTART:20250309T070000
END:DAYLIGHT
BEGIN:STANDARD
TZOFFSETFROM:-0400
TZOFFSETTO:-0500
TZNAME:EST
DTSTART:20251102T060000
END:STANDARD
BEGIN:DAYLIGHT
TZOFFSETFROM:-0500
TZOFFSETTO:-0400
TZNAME:EDT
DTSTART:20260308T070000
END:DAYLIGHT
BEGIN:STANDARD
TZOFFSETFROM:-0400
TZOFFSETTO:-0500
TZNAME:EST
DTSTART:20261101T060000
END:STANDARD
END:VTIMEZONE
BEGIN:VEVENT
DTSTART;TZID=America/New_York:20241013T080000
DTEND;TZID=America/New_York:20241013T170000
DTSTAMP:20260421T073904
CREATED:20240328T220752Z
LAST-MODIFIED:20250227T174006Z
UID:5193-1728806400-1728838800@www.madriverskipatrol.org
SUMMARY:On The Hill & CPR
DESCRIPTION:Registration is from 7am to 7:59am. Registration desk will close promptly at 8am\, when opening comments and instructions for the day will begin. This will be our traditional day of season prep for chair evac\, CPR\, and Aid room cleanup.  \n\n\n\nPlan to be at MRM most of the day. Lunch will be provided. \n\n\n\nBRING YOUR SKI/BOARD HELMET\, WORK GLOVES\, AND APPROPRIATE ATTIRE BASED ON WEATHER FORECAST. Rain or shine\, we will be outside during the afternoon. Boots appropriate for wet and/or muddy conditions are highly recommended.  \nPer Vail requirements\, If you don’t have your ski/board helmet then you cannot participate in chair evacuation training. \n\n\n\n  \n 
URL:https://www.madriverskipatrol.org/event/on-the-hill-cpr
LOCATION:OH
END:VEVENT
BEGIN:VEVENT
DTSTART;TZID=America/New_York:20241020T120000
DTEND;TZID=America/New_York:20241020T160000
DTSTAMP:20260421T073904
CREATED:20241017T003855Z
LAST-MODIFIED:20250227T174006Z
UID:5758-1729425600-1729440000@www.madriverskipatrol.org
SUMMARY:Senior OEC In-Person Scenario Training
DESCRIPTION:
URL:https://www.madriverskipatrol.org/event/senior-oec-in-person-scenario-training
LOCATION:OH
END:VEVENT
BEGIN:VEVENT
DTSTART;TZID=America/New_York:20241107T180000
DTEND;TZID=America/New_York:20241107T210000
DTSTAMP:20260421T073904
CREATED:20241017T004012Z
LAST-MODIFIED:20250227T174006Z
UID:5760-1731002400-1731013200@www.madriverskipatrol.org
SUMMARY:Senior OEC In-Person Scenario Training
DESCRIPTION:
URL:https://www.madriverskipatrol.org/event/senior-oec-in-person-scenario-training-2
LOCATION:OH
END:VEVENT
BEGIN:VEVENT
DTSTART;TZID=America/New_York:20241107T183000
DTEND;TZID=America/New_York:20241107T213000
DTSTAMP:20260421T073904
CREATED:20240924T190459Z
LAST-MODIFIED:20250227T174006Z
UID:5423-1731004200-1731015000@www.madriverskipatrol.org
SUMMARY:OEC Candidate CPR Training
DESCRIPTION:CPR BLS training for OEC Candidates and Hosts will be held at MRM in the Lodge.  This course has an online component that must be completed ahead of time\, and the skills session will be taught and practiced on Nov 7th at 6:30.  A digital certificate is mailed to the students completing the requirements.  The Candidate or Host must be registered ahead of time.  Please contact Kristen McKenna at kristen_puckett@yahoo.com to obtain access to the online course.  This course is free to the Candidate or Host and paid for by MRM Ski Patrol. 
URL:https://www.madriverskipatrol.org/event/oec-candidate-cpr-training
LOCATION:Mad River Mountain Ski Resort\, 1000 Snow Valley Rd\, Zanesfield\, OH\, 43360\, United States
ATTACH;FMTTYPE=image/jpeg:https://www.madriverskipatrol.org/wp-content/uploads/2024/09/CPR.jpg
END:VEVENT
BEGIN:VEVENT
DTSTART;TZID=America/New_York:20241109T080000
DTEND;TZID=America/New_York:20241109T170000
DTSTAMP:20260421T073904
CREATED:20241016T191558Z
LAST-MODIFIED:20250227T174006Z
UID:5668-1731139200-1731171600@www.madriverskipatrol.org
SUMMARY:Senior OEC/ARM Candidate Clinic
DESCRIPTION:Senior OEC/ARM Candidate Clinic @ Dublin Public Library
URL:https://www.madriverskipatrol.org/event/senior-oec-arm-candidate-clinic
LOCATION:Dublin Public Library\, 75 North High Street\, Dublin\, Ohio\, 43017\, United States
END:VEVENT
BEGIN:VEVENT
DTSTART;TZID=America/New_York:20241109T130000
DTEND;TZID=America/New_York:20241109T143000
DTSTAMP:20260421T073904
CREATED:20241107T151254Z
LAST-MODIFIED:20250227T174006Z
UID:5843-1731157200-1731162600@www.madriverskipatrol.org
SUMMARY:Chair Lift Evacuation Training - Makeup Class
DESCRIPTION:Be sure to sign the release form \nClick here to sign the release form \n\n\n\nBRING YOUR SKI/BOARD HELMET\, WORK GLOVES\, AND APPROPRIATE ATTIRE BASED ON WEATHER FORECAST. Rain or shine\, we will be outside during the afternoon. Boots appropriate for wet and/or muddy conditions are highly recommended. \n\n\n\nPer Vail requirements\, If you don’t have your ski/board helmet then you cannot participate in chair evacuation training. \n 
URL:https://www.madriverskipatrol.org/event/chair-lift-evacuation-training-makeup-class
LOCATION:OH
END:VEVENT
BEGIN:VEVENT
DTSTART;TZID=America/New_York:20241110T080000
DTEND;TZID=America/New_York:20241110T170000
DTSTAMP:20260421T073904
CREATED:20241016T190525Z
LAST-MODIFIED:20250227T174006Z
UID:5661-1731225600-1731258000@www.madriverskipatrol.org
SUMMARY:MRM Ski & Snowboard Swap
DESCRIPTION:If you would like to resell some of your gear\, please complete this release before showing up with items: Ski and Snowboard Swap Sale – Individuals Waiver Agreement \n\n\n\nDoors open at 8am for anyone wanting to sell equipment \n\n\n\n*************************************************************** \n\n\n\nPatrollers: please plan to help out during the day!  Sign Up Here \n 
URL:https://www.madriverskipatrol.org/event/ski-swap
LOCATION:Mad River Mountain Ski Resort\, 1000 Snow Valley Rd\, Zanesfield\, OH\, 43360\, United States
ATTACH;FMTTYPE=image/jpeg:https://www.madriverskipatrol.org/wp-content/uploads/2022/03/mrm_skiswap.jpeg
END:VEVENT
BEGIN:VEVENT
DTSTART;TZID=America/New_York:20241110T120000
DTEND;TZID=America/New_York:20241110T160000
DTSTAMP:20260421T073904
CREATED:20241017T004100Z
LAST-MODIFIED:20250227T173907Z
UID:5762-1731240000-1731254400@www.madriverskipatrol.org
SUMMARY:Senior OEC In-Person Scenario Training
DESCRIPTION:
URL:https://www.madriverskipatrol.org/event/senior-oec-in-person-scenario-training-3
LOCATION:OH
END:VEVENT
BEGIN:VEVENT
DTSTART;TZID=America/New_York:20241117T120000
DTEND;TZID=America/New_York:20241117T160000
DTSTAMP:20260421T073904
CREATED:20241017T004144Z
LAST-MODIFIED:20241210T163858Z
UID:5764-1731844800-1731859200@www.madriverskipatrol.org
SUMMARY:Senior OEC In-Person Scenario Training
DESCRIPTION:
URL:https://www.madriverskipatrol.org/event/senior-oec-in-person-scenario-training-4
LOCATION:OH
END:VEVENT
BEGIN:VEVENT
DTSTART;TZID=America/New_York:20241117T235900
DTEND;TZID=America/New_York:20241117T235900
DTSTAMP:20260421T073904
CREATED:20241106T155030Z
LAST-MODIFIED:20241210T163849Z
UID:5838-1731887940-1731887940@www.madriverskipatrol.org
SUMMARY:Deadline to request Vail Pass
DESCRIPTION:Go to this post and follow instructions.  Must be completed by midnight on Nov 17th. \n\n\n\nClick to go and request Vail Pass for 24-25 Season
URL:https://www.madriverskipatrol.org/event/deadline-to-request-vail-pass
LOCATION:OH
END:VEVENT
BEGIN:VEVENT
DTSTART;TZID=America/New_York:20241121T180000
DTEND;TZID=America/New_York:20241121T210000
DTSTAMP:20260421T073904
CREATED:20241017T004227Z
LAST-MODIFIED:20241210T163843Z
UID:5766-1732212000-1732222800@www.madriverskipatrol.org
SUMMARY:Senior OEC In-Person Scenario Training
DESCRIPTION:
URL:https://www.madriverskipatrol.org/event/senior-oec-in-person-scenario-training-5
LOCATION:OH
END:VEVENT
BEGIN:VEVENT
DTSTART;TZID=America/New_York:20241207T080000
DTEND;TZID=America/New_York:20241207T170000
DTSTAMP:20260421T073904
CREATED:20241016T200134Z
LAST-MODIFIED:20241016T200423Z
UID:5676-1733558400-1733590800@www.madriverskipatrol.org
SUMMARY:Aid Room Module and Calibration for Senior Module
DESCRIPTION:The senior level OEC testing for the Aid Room Module will be held at Mad River on Dec 7\, followed by the Senior OEC Module Calibration.  \n\n\n\nPlease contact Jim Vickroy if interested in participating. \n 
URL:https://www.madriverskipatrol.org/event/aid-room-module-and-calibration-for-senior-module
LOCATION:Mad River Mountain Ski Resort\, 1000 Snow Valley Rd\, Zanesfield\, OH\, 43360\, United States
END:VEVENT
BEGIN:VEVENT
DTSTART;TZID=America/New_York:20241208T080000
DTEND;TZID=America/New_York:20241208T170000
DTSTAMP:20260421T073904
CREATED:20241017T004607Z
LAST-MODIFIED:20241210T163835Z
UID:5768-1733644800-1733677200@www.madriverskipatrol.org
SUMMARY:Senior OEC Evaluation @MRM
DESCRIPTION:
URL:https://www.madriverskipatrol.org/event/senior-oec-evaluation-mrm
LOCATION:OH
END:VEVENT
BEGIN:VEVENT
DTSTART;TZID=America/New_York:20241213T150000
DTEND;TZID=America/New_York:20241213T220000
DTSTAMP:20260421T073904
CREATED:20241210T030650Z
LAST-MODIFIED:20241211T013005Z
UID:5936-1734102000-1734127200@www.madriverskipatrol.org
SUMMARY:Opening Day
DESCRIPTION:From Al:Terrain Package: \n\n\n\nLifts: Quad\, Flight Deck\, Carpet\, Discovery Handle tow\, Sundowner (If needed). \n\n\n\nTrails: Sundowner\, Valleyview\, Summit\,  Mad River\, Discovery Learning Area\, Fanny Hill learning area\, LVLP (with 6-8 features) Lower regulator (potentially)\, & Sugarbush (potentially depending on snowmaking the next few days). \n\n\n\n \n\n\n\nHere we go !!
URL:https://www.madriverskipatrol.org/event/opening-day
LOCATION:OH
ATTACH;FMTTYPE=image/png:https://www.madriverskipatrol.org/wp-content/uploads/2024/12/Screenshot-2024-12-10-at-8.29.25 PM.png
END:VEVENT
BEGIN:VEVENT
DTSTART;TZID=America/New_York:20241214T080000
DTEND;TZID=America/New_York:20241215T170000
DTSTAMP:20260421T073904
CREATED:20241016T202304Z
LAST-MODIFIED:20241210T163823Z
UID:5696-1734163200-1734282000@www.madriverskipatrol.org
SUMMARY:NSP Division Patroller Clinic @ The Highlands
DESCRIPTION:Join us for this year’s Winter Ski Patrol Festival\, formerly known as the Alpine Skill Development Workshop (ASDW). Hosted by the Central Division National Ski Patrol\, this event promises to be a thrilling blend of camaraderie\, skill enhancement\, and winter fun. This year\, we’re excited to bring the festival to two fantastic locations: \n\n\n\n\nDecember 14-15\, 2024 at the stunning Highlands of Harbor Springs in Michigan\n\n\n\n\nWhether you’re a seasoned patroller or new to the slopes\, the Winter Ski Patrol Festival offers a unique opportunity to enhance your skills\, network with fellow patrollers\, and enjoy the exhilarating winter landscape. During the festival\, you’ll have the chance to participate in a variety of workshops and training sessions tailored to your skill level. From advanced first aid to avalanche rescue techniques\, our expert-led sessions are designed to equip you with the knowledge and skills to handle any situation on the slopes. But it’s not all work! The festival also includes plenty of opportunities for fun and relaxation. Enjoy the thrill of skiing on some of the best slopes in the region\, share stories with fellow patrollers around a cozy bonfire\, and celebrate the season with other patrollers. We can’t wait to see you at the Winter Ski Patrol Festival. Mark your calendars\, pack your gear\, and get ready for an unforgettable experience on the slopes! \nClick Here for more info and to Register \n 
URL:https://www.madriverskipatrol.org/event/nsp-division-patroller-clinic-the-highlands
LOCATION:OH
END:VEVENT
BEGIN:VEVENT
DTSTART;TZID=America/New_York:20250110T093000
DTEND;TZID=America/New_York:20250110T153000
DTSTAMP:20260421T073904
CREATED:20241202T030133Z
LAST-MODIFIED:20241210T163816Z
UID:5876-1736501400-1736523000@www.madriverskipatrol.org
SUMMARY:MVP Program (Maintaining Valuable Patrollers)
DESCRIPTION:For any patroller 60 yrs and over – Mark your calendars now! \n\n\n\nThis is a great program to help you stay flexible and agile when patrolling.  The program will be run by Dale Mihuta (the initial developer of the Central Division Ski School\, a level 3 instructor\, and excellent coach!).   We will have a combination of indoor and outdoor discussion\, practice\, support\, including some toboggan work\, to help improve and maintain your skills in smart ways to keep us going for years to come. \n\n\n\nClick here to sign up
URL:https://www.madriverskipatrol.org/event/mvp-program-maintaining-valuable-patrollers
LOCATION:OH
ATTACH;FMTTYPE=image/webp:https://www.madriverskipatrol.org/wp-content/uploads/2024/12/MVP-Logo.webp
END:VEVENT
BEGIN:VEVENT
DTSTART;TZID=America/New_York:20250111T200000
DTEND;TZID=America/New_York:20250111T235900
DTSTAMP:20260421T073904
CREATED:20241211T005403Z
LAST-MODIFIED:20241211T011630Z
UID:5949-1736625600-1736639940@www.madriverskipatrol.org
SUMMARY:Midnight Madness
DESCRIPTION:Mad River’s signature Midnight Madness!  \n\n\n\nMad River Mtn. will be open until midnight featuring lift ticket specials\, rental package specials\, and live music in The Loft!  \n\n\n\nClick here for more info
URL:https://www.madriverskipatrol.org/event/midnight-madness
LOCATION:OH
END:VEVENT
BEGIN:VEVENT
DTSTART;TZID=America/New_York:20250125T140000
DTEND;TZID=America/New_York:20250125T160000
DTSTAMP:20260421T073904
CREATED:20241210T032336Z
LAST-MODIFIED:20241210T163810Z
UID:5944-1737813600-1737820800@www.madriverskipatrol.org
SUMMARY:Ski Along - For Those Interested in Joining Patrol
DESCRIPTION:If you or anyone that you know is interested in patrolling – now is a great time!  Come to the Ski Along and find out more about MRM Ski Patrol.  For questions in the meantime\, check details on our website under the main tab for MRM Patrol Info.  There is information about becoming a member\, and a list of frequently asked questions with associated responses.  Sign up with the link below to find out more. \n\n\n\nSign up for Ski Along \n\n\n\nApplication for Patrolling
URL:https://www.madriverskipatrol.org/event/ski-along-for-those-interested-in-joining-patrol-2
LOCATION:OH
END:VEVENT
BEGIN:VEVENT
DTSTART;TZID=America/New_York:20250125T200000
DTEND;TZID=America/New_York:20250125T235900
DTSTAMP:20260421T073904
CREATED:20241211T005523Z
LAST-MODIFIED:20241211T005907Z
UID:5951-1737835200-1737849540@www.madriverskipatrol.org
SUMMARY:Midnight Madness
DESCRIPTION:Mad River’s signature Midnight Madness! \n\n\n\nMad River Mtn. will be open until midnight featuring lift ticket specials\, rental package specials\, and live music in The Loft!  \n\n\n\nClick here for more info
URL:https://www.madriverskipatrol.org/event/midnight-madness-2
LOCATION:OH
END:VEVENT
BEGIN:VEVENT
DTSTART;TZID=America/New_York:20250201T080000
DTEND;TZID=America/New_York:20250201T090000
DTSTAMP:20260421T073904
CREATED:20241211T011008Z
LAST-MODIFIED:20241211T011008Z
UID:5960-1738396800-1738400400@www.madriverskipatrol.org
SUMMARY:Passholder First Tracks
DESCRIPTION:Pass Holders receive an opportunity for exclusive first tracks on the freshly groomed snow one hour prior to opening (8a)!  \n\n\n\nGet the first turns in before we open to the public and secure a free Helly Hansen Beanie as a gift to our passholders! \n\n\n\nClick here for more info
URL:https://www.madriverskipatrol.org/event/passholder-first-tracks
LOCATION:OH
END:VEVENT
BEGIN:VEVENT
DTSTART;TZID=America/New_York:20250201T080000
DTEND;TZID=America/New_York:20250201T170000
DTSTAMP:20260421T073904
CREATED:20241016T201013Z
LAST-MODIFIED:20241217T170136Z
UID:5683-1738396800-1738429200@www.madriverskipatrol.org
SUMMARY:SES - Ski Enhancement Seminar @ Mad River
DESCRIPTION:A fantastic opportunity to improve your ski/ride skills!!  Work with high level trainers from throughout the Ohio region.  Go to the Ohio Region Website to sign up.  SES opportunities at MRM and other areas include: \n\n\n\n\n1/6 – Snow Trails\n\n\n\n1/20 – Boston Mills / Brandywine\n\n\n\n1/27 – Paoli Peaks\n\n\n\n2/3 – MRM\n\n\n\n2/11 – Perfect North Slopes\n\n\n\n\nClick Here to Register for this or other Region Events \n\n\nSES-2025-Mad-River-Revised-QR\n\n\nSee Chris R if you have questions.
URL:https://www.madriverskipatrol.org/event/ses-ski-enhancement-seminar-mad-river
LOCATION:Mad River Mountain Ski Resort\, 1000 Snow Valley Rd\, Zanesfield\, OH\, 43360\, United States
ATTACH;FMTTYPE=image/jpeg:https://www.madriverskipatrol.org/wp-content/uploads/2024/10/skiing.jpg
END:VEVENT
BEGIN:VEVENT
DTSTART;TZID=America/New_York:20250201T093000
DTEND;TZID=America/New_York:20250201T131500
DTSTAMP:20260421T073904
CREATED:20241211T011235Z
LAST-MODIFIED:20241211T012047Z
UID:5962-1738402200-1738415700@www.madriverskipatrol.org
SUMMARY:Rail Jam
DESCRIPTION:A free-to-enter Rail Jam happening Saturday February 1. This is your time to show us what you’ve been working on in the park! Join us for great prizes\, music in the park\, free snacks\, and more! Timeline of events: 9:30a – 10:30a registration | 10:00a – 10:45a practice laps | 11:00a – 11:45a 17& under session | 12:00p – 12:45p 18+ session | rail jam park reopened to the public by 1:00p | Awards @ 1:15p. Please note that helmets will be required to participate. Also\, all participants 17& under will require a parent signature. \n\n\n\nClick here for more info
URL:https://www.madriverskipatrol.org/event/rail-jam
LOCATION:OH
ATTACH;FMTTYPE=image/jpeg:https://www.madriverskipatrol.org/wp-content/uploads/2024/12/Rail-Jam-1-scaled-1.jpg
END:VEVENT
BEGIN:VEVENT
DTSTART;TZID=America/New_York:20250202T080000
DTEND;TZID=America/New_York:20250202T170000
DTSTAMP:20260421T073904
CREATED:20241016T201316Z
LAST-MODIFIED:20241210T163757Z
UID:5685-1738483200-1738515600@www.madriverskipatrol.org
SUMMARY:TES - Toboggan Enhancement Seminar @ Mad River
DESCRIPTION:The TES is a region level event\, coming to MRM Feb 2th.  Whether you want to work on higher level skills in preparation for Senior testing\, or to enhance your day to day patrolling skills\, the TES has something for you!  Find out more on the OET page under Programs or if ready to sign up go here: Ohio Events Sign Up \n\n\n\n \n\n\n\n\n\nThere is also a wealth of info at the region website: OET – Ohio Region  \n 
URL:https://www.madriverskipatrol.org/event/tes-toboggan-enhancement-seminar-2
LOCATION:OH
ATTACH;FMTTYPE=image/png:https://www.madriverskipatrol.org/wp-content/uploads/2024/10/TES-2025.png
END:VEVENT
BEGIN:VEVENT
DTSTART;TZID=America/New_York:20250208T200000
DTEND;TZID=America/New_York:20250208T235900
DTSTAMP:20260421T073904
CREATED:20241211T010134Z
LAST-MODIFIED:20241211T011604Z
UID:5954-1739044800-1739059140@www.madriverskipatrol.org
SUMMARY:Midnight Madness
DESCRIPTION:Mad River’s signature Midnight Madness! \n\n\n\nMad River Mtn. will be open until midnight featuring lift ticket specials\, rental package specials\, and live music in The Loft!  \n\n\n\nClick here for more info
URL:https://www.madriverskipatrol.org/event/midnight-mass
LOCATION:OH
END:VEVENT
BEGIN:VEVENT
DTSTART;TZID=America/New_York:20250218T183000
DTEND;TZID=America/New_York:20250218T210000
DTSTAMP:20260421T073904
CREATED:20250118T235011Z
LAST-MODIFIED:20250121T145545Z
UID:5994-1739903400-1739912400@www.madriverskipatrol.org
SUMMARY:Rucksack Challenge at Mad River Mountain
DESCRIPTION:Overview: The Ninety-Pound Rucksack Challenge (“Challenge”) will create a ski mountaineering event that leans into the legacy of the 10th Mountain Division while celebrating its historic contributions to both the Allied victory in World War II and the development of the post-war outdoor recreation industry. \n\n\n\nThe Event: On February 18\, 2025\, a tribute to the 10th Mountain Division’s signature action will take place at 7 p.m at MRM as well as many other locations around the country. \n\n\n\nBackground: The 10th Mountain Division was the US Army’s World War II specialized unit of skiers and climbers whose January 1945 insertion into the Italian Theater helped end the war in Europe. After training for more than three years in the Adirondacks\, Cascades\, and Rockies\, often carrying ninety-pound “rucksacks\,” or backpacks\, they were inserted into Italy’s Apennine Mountains to break Hitler’s Gothic Line\, a fortified series of summits and ridges the Nazis had used to stymie Allied advances for more than 500 days. \n\n\n\nAt 7 p.m.\, February 18\, 1945\, some 800 10th Mountain Division soldiers began a night-time ascent of Riva Ridge\, the Gothic Line’s lynchpin. Carrying packs that weighed up to 60 pounds\, they ascended four different routes that ranged from 1\,500 to 2\,500 feet of vertical gain to take the Germans on top without a casualty. Their successful ascent not only helped break the Gothic Line; it catalyzed the German surrender of Italy and hastened the end of the war as well. \n\n\n\nSki towns from around America\, including Lake Placid\, Sun Valley and Jackson Hole\, contributed soldiers to the 10th. Post-war\, 10th Mountain Division veterans founded or developed more than 60 ski areas around America\, including Steamboat\, Vail\, Arapahoe Basin and Jackson’s Snow King Mountain. \n\n\n\nHow It Works: At Mad River we will complete this challenge from 7-9pm on Feb 18th. Because Mad River is only 300 ft tall\, we will complete this challenge by hiking up the hill in a predetermined route and then ski/board descend back to the start of the loop. Participants should plan on completing 3-5 loops. Uphill travel can include skiing or hiking and wearing a rucksack with up to 50 lbs is encouraged. Members of the public who sign waivers releasing participating entities from liability will be welcome to join. \n\n\n\n \n\n\n\nClick for more info and to sign up \n\n\n\n\nNinety-Pound-Rucksack-Challenge
URL:https://www.madriverskipatrol.org/event/rucksack-challenge-at-mad-river-mountain
LOCATION:Mad River Mountain Ski Resort\, 1000 Snow Valley Rd\, Zanesfield\, OH\, 43360\, United States
END:VEVENT
BEGIN:VEVENT
DTSTART;TZID=America/New_York:20250222T080000
DTEND;TZID=America/New_York:20250222T170000
DTSTAMP:20260421T073904
CREATED:20241016T201956Z
LAST-MODIFIED:20241210T163752Z
UID:5692-1740211200-1740243600@www.madriverskipatrol.org
SUMMARY:Ohio Region Senior Ski-Ride Testing
DESCRIPTION:This year’s senior testing for ski/ride will be held at Boston Mills. Go to the Ohio Region Website for more event detail and the NSP Central division for all sorts of information on the Senior Program\, including registration for Senior which is done on the division website.
URL:https://www.madriverskipatrol.org/event/ohio-region-senior-ski-ride-testing-2
LOCATION:OH
END:VEVENT
BEGIN:VEVENT
DTSTART;TZID=America/New_York:20250222T200000
DTEND;TZID=America/New_York:20250222T235900
DTSTAMP:20260421T073904
CREATED:20241211T010553Z
LAST-MODIFIED:20241211T010633Z
UID:5956-1740254400-1740268740@www.madriverskipatrol.org
SUMMARY:Midnight Madness
DESCRIPTION:Mad River’s signature Midnight Madness! \n\n\n\nMad River Mtn. will be open until midnight featuring lift ticket specials\, rental package specials\, and live music in The Loft!  \n\n\n\nClick here for more info
URL:https://www.madriverskipatrol.org/event/midnight-madness-3
LOCATION:OH
END:VEVENT
BEGIN:VEVENT
DTSTART;TZID=America/New_York:20250223T080000
DTEND;TZID=America/New_York:20250223T170000
DTSTAMP:20260421T073904
CREATED:20241016T202126Z
LAST-MODIFIED:20241210T163747Z
UID:5694-1740297600-1740330000@www.madriverskipatrol.org
SUMMARY:Ohio Region Senior Toboggan Testing
DESCRIPTION:This year’s Senior Testing for Toboggan will be hosted at Boston Mills. Go to the Ohio Region website for more information\, and make sure that you are registered and review the latest information on the Senior Program via the Central Division Senior Information Area.
URL:https://www.madriverskipatrol.org/event/ohio-region-senior-toboggan-testing-2
LOCATION:OH
END:VEVENT
BEGIN:VEVENT
DTSTART;TZID=America/New_York:20250227T080000
DTEND;TZID=America/New_York:20250301T170000
DTSTAMP:20260421T073904
CREATED:20241016T202421Z
LAST-MODIFIED:20241210T163741Z
UID:5698-1740643200-1740848400@www.madriverskipatrol.org
SUMMARY:NSP Certified Exams @ Marquette MI
DESCRIPTION:Information on Certified Patroller \n\n\n\nCertified Patroller Program
URL:https://www.madriverskipatrol.org/event/nsp-certified-exams-marquette-mi
LOCATION:OH
END:VEVENT
BEGIN:VEVENT
DTSTART;TZID=America/New_York:20250301T080000
DTEND;TZID=America/New_York:20250301T170000
DTSTAMP:20260421T073904
CREATED:20241211T011442Z
LAST-MODIFIED:20241211T012537Z
UID:5964-1740816000-1740848400@www.madriverskipatrol.org
SUMMARY:Spring Fling
DESCRIPTION:The most anticipated event of the year returns Saturday\, March 1! Spring Fling features a full day of events. You can choose to participate in as many of them as you’d like or cheer on the participants from the sidelines! These events will be FREE to enter and feature rad prizing you don’t want to miss! \n\n\n\nClick here for more info
URL:https://www.madriverskipatrol.org/event/spring-fling
LOCATION:OH
ATTACH;FMTTYPE=image/png:https://www.madriverskipatrol.org/wp-content/uploads/2024/12/Screenshot-2024-12-10-at-8.25.08 PM.png
END:VEVENT
END:VCALENDAR