BEGIN:VCALENDAR
VERSION:2.0
PRODID:-//MRM Ski Patrol - ECPv6.15.17.1//NONSGML v1.0//EN
CALSCALE:GREGORIAN
METHOD:PUBLISH
X-ORIGINAL-URL:https://www.madriverskipatrol.org
X-WR-CALDESC:Events for MRM Ski Patrol
REFRESH-INTERVAL;VALUE=DURATION:PT1H
X-Robots-Tag:noindex
X-PUBLISHED-TTL:PT1H
BEGIN:VTIMEZONE
TZID:America/New_York
BEGIN:DAYLIGHT
TZOFFSETFROM:-0500
TZOFFSETTO:-0400
TZNAME:EDT
DTSTART:20230312T070000
END:DAYLIGHT
BEGIN:STANDARD
TZOFFSETFROM:-0400
TZOFFSETTO:-0500
TZNAME:EST
DTSTART:20231105T060000
END:STANDARD
BEGIN:DAYLIGHT
TZOFFSETFROM:-0500
TZOFFSETTO:-0400
TZNAME:EDT
DTSTART:20240310T070000
END:DAYLIGHT
BEGIN:STANDARD
TZOFFSETFROM:-0400
TZOFFSETTO:-0500
TZNAME:EST
DTSTART:20241103T060000
END:STANDARD
BEGIN:DAYLIGHT
TZOFFSETFROM:-0500
TZOFFSETTO:-0400
TZNAME:EDT
DTSTART:20250309T070000
END:DAYLIGHT
BEGIN:STANDARD
TZOFFSETFROM:-0400
TZOFFSETTO:-0500
TZNAME:EST
DTSTART:20251102T060000
END:STANDARD
END:VTIMEZONE
BEGIN:VEVENT
DTSTART;TZID=America/New_York:20240725T183000
DTEND;TZID=America/New_York:20240725T213000
DTSTAMP:20260421T012626
CREATED:20240423T160638Z
LAST-MODIFIED:20250227T174105Z
UID:5242-1721932200-1721943000@www.madriverskipatrol.org
SUMMARY:OEC In-Person Skills Training @ MRM
DESCRIPTION:Chapters 20\, 21\, 22\, 24 and 33 Skills Training
URL:https://www.madriverskipatrol.org/event/oec-in-person-skills-training-mrm-3
CATEGORIES:OEC
END:VEVENT
BEGIN:VEVENT
DTSTART;TZID=America/New_York:20240801T190000
DTEND;TZID=America/New_York:20240801T203000
DTSTAMP:20260421T012626
CREATED:20240423T160919Z
LAST-MODIFIED:20250227T174105Z
UID:5244-1722538800-1722544200@www.madriverskipatrol.org
SUMMARY:OEC Written Exam @ MRM
DESCRIPTION:OEC Written Exam – Onsite at MRM
URL:https://www.madriverskipatrol.org/event/oec-written-exam-mrm
CATEGORIES:OEC
END:VEVENT
BEGIN:VEVENT
DTSTART;TZID=America/New_York:20240804T133000
DTEND;TZID=America/New_York:20240804T163000
DTSTAMP:20260421T012626
CREATED:20240423T202652Z
LAST-MODIFIED:20250227T174105Z
UID:5247-1722778200-1722789000@www.madriverskipatrol.org
SUMMARY:OEC In-Person Scenario Training
DESCRIPTION:
URL:https://www.madriverskipatrol.org/event/oec-in-person-scenario-training
CATEGORIES:OEC
END:VEVENT
BEGIN:VEVENT
DTSTART;TZID=America/New_York:20240808T183000
DTEND;TZID=America/New_York:20240808T213000
DTSTAMP:20260421T012626
CREATED:20240423T204638Z
LAST-MODIFIED:20250227T174105Z
UID:5263-1723141800-1723152600@www.madriverskipatrol.org
SUMMARY:OEC In-Person Scenario Training
DESCRIPTION:
URL:https://www.madriverskipatrol.org/event/oec-in-person-scenario-training-8
CATEGORIES:OEC
END:VEVENT
BEGIN:VEVENT
DTSTART;TZID=America/New_York:20240811T133000
DTEND;TZID=America/New_York:20240811T163000
DTSTAMP:20260421T012626
CREATED:20240423T203131Z
LAST-MODIFIED:20250227T174105Z
UID:5249-1723383000-1723393800@www.madriverskipatrol.org
SUMMARY:OEC In-Person Scenario Training
DESCRIPTION:
URL:https://www.madriverskipatrol.org/event/oec-in-person-scenario-training-2
CATEGORIES:OEC
END:VEVENT
BEGIN:VEVENT
DTSTART;TZID=America/New_York:20240815T183000
DTEND;TZID=America/New_York:20240815T213000
DTSTAMP:20260421T012626
CREATED:20240423T204731Z
LAST-MODIFIED:20250227T174105Z
UID:5266-1723746600-1723757400@www.madriverskipatrol.org
SUMMARY:OEC In-Person Scenario Training
DESCRIPTION:
URL:https://www.madriverskipatrol.org/event/oec-in-person-scenario-training-9
CATEGORIES:OEC
END:VEVENT
BEGIN:VEVENT
DTSTART;TZID=America/New_York:20240818T133000
DTEND;TZID=America/New_York:20240818T163000
DTSTAMP:20260421T012626
CREATED:20240423T203922Z
LAST-MODIFIED:20250227T174105Z
UID:5251-1723987800-1723998600@www.madriverskipatrol.org
SUMMARY:OEC In-Person Scenario Training
DESCRIPTION:
URL:https://www.madriverskipatrol.org/event/oec-in-person-scenario-training-3
CATEGORIES:OEC
END:VEVENT
BEGIN:VEVENT
DTSTART;TZID=America/New_York:20240822T183000
DTEND;TZID=America/New_York:20240822T213000
DTSTAMP:20260421T012626
CREATED:20240423T204757Z
LAST-MODIFIED:20250227T174105Z
UID:5268-1724351400-1724362200@www.madriverskipatrol.org
SUMMARY:OEC In-Person Scenario Training
DESCRIPTION:
URL:https://www.madriverskipatrol.org/event/oec-in-person-scenario-training-10
CATEGORIES:OEC
END:VEVENT
BEGIN:VEVENT
DTSTART;TZID=America/New_York:20240825T133000
DTEND;TZID=America/New_York:20240825T163000
DTSTAMP:20260421T012626
CREATED:20240423T203955Z
LAST-MODIFIED:20250227T174105Z
UID:5253-1724592600-1724603400@www.madriverskipatrol.org
SUMMARY:OEC In-Person Scenario Training
DESCRIPTION:
URL:https://www.madriverskipatrol.org/event/oec-in-person-scenario-training-4
CATEGORIES:OEC
END:VEVENT
BEGIN:VEVENT
DTSTART;TZID=America/New_York:20240829T183000
DTEND;TZID=America/New_York:20240829T213000
DTSTAMP:20260421T012626
CREATED:20240423T204826Z
LAST-MODIFIED:20250227T174105Z
UID:5270-1724956200-1724967000@www.madriverskipatrol.org
SUMMARY:OEC In-Person Scenario Training
DESCRIPTION:
URL:https://www.madriverskipatrol.org/event/oec-in-person-scenario-training-11
CATEGORIES:OEC
END:VEVENT
BEGIN:VEVENT
DTSTART;TZID=America/New_York:20240905T183000
DTEND;TZID=America/New_York:20240905T213000
DTSTAMP:20260421T012626
CREATED:20240423T204903Z
LAST-MODIFIED:20250227T174105Z
UID:5272-1725561000-1725571800@www.madriverskipatrol.org
SUMMARY:OEC In-Person Scenario Training
DESCRIPTION:
URL:https://www.madriverskipatrol.org/event/oec-in-person-scenario-training-12
CATEGORIES:OEC
END:VEVENT
BEGIN:VEVENT
DTSTART;TZID=America/New_York:20240906T080000
DTEND;TZID=America/New_York:20240908T170000
DTSTAMP:20260421T012626
CREATED:20240423T212706Z
LAST-MODIFIED:20250227T174105Z
UID:5282-1725609600-1725814800@www.madriverskipatrol.org
SUMMARY:NSP Central Division Fall Meeting
DESCRIPTION:Meeting in Grand Rapids\, MI\, for this year’s Central Division Fall Meeting.
URL:https://www.madriverskipatrol.org/event/nsp-central-division-fall-meeting
END:VEVENT
BEGIN:VEVENT
DTSTART;TZID=America/New_York:20240908T133000
DTEND;TZID=America/New_York:20240908T163000
DTSTAMP:20260421T012626
CREATED:20240423T204056Z
LAST-MODIFIED:20250227T174105Z
UID:5255-1725802200-1725813000@www.madriverskipatrol.org
SUMMARY:OEC In-Person Scenario Training
DESCRIPTION:
URL:https://www.madriverskipatrol.org/event/oec-in-person-scenario-training-5
CATEGORIES:OEC
END:VEVENT
BEGIN:VEVENT
DTSTART;TZID=America/New_York:20240912T183000
DTEND;TZID=America/New_York:20240912T213000
DTSTAMP:20260421T012626
CREATED:20240423T204935Z
LAST-MODIFIED:20250227T174105Z
UID:5274-1726165800-1726176600@www.madriverskipatrol.org
SUMMARY:OEC In-Person Scenario Training
DESCRIPTION:
URL:https://www.madriverskipatrol.org/event/oec-in-person-scenario-training-13
CATEGORIES:OEC
END:VEVENT
BEGIN:VEVENT
DTSTART;TZID=America/New_York:20240915T080000
DTEND;TZID=America/New_York:20240915T150000
DTSTAMP:20260421T012626
CREATED:20151019T032039Z
LAST-MODIFIED:20250227T174105Z
UID:483-1726387200-1726412400@www.madriverskipatrol.org
SUMMARY:OEC Instructor Refresher
DESCRIPTION:Annual Refresher for OEC Instructors of MRM to be held Sunday September 15.  The purpose of the event is to complete the individual requirements skill refresher for the instructors and to prepare to instruct at the full patroller refresher. \nFor further details and release click here >>  OEC Instructor Refresher
URL:https://www.madriverskipatrol.org/event/oec-instructor-refresher
LOCATION:Mad River Mountain Ski Resort\, 1000 Snow Valley Rd\, Zanesfield\, OH\, 43360\, United States
CATEGORIES:OEC
END:VEVENT
BEGIN:VEVENT
DTSTART;TZID=America/New_York:20240919T183000
DTEND;TZID=America/New_York:20240919T213000
DTSTAMP:20260421T012626
CREATED:20240423T205005Z
LAST-MODIFIED:20250227T174006Z
UID:5276-1726770600-1726781400@www.madriverskipatrol.org
SUMMARY:OEC In-Person Scenario Training
DESCRIPTION:
URL:https://www.madriverskipatrol.org/event/oec-in-person-scenario-training-14
CATEGORIES:OEC
END:VEVENT
BEGIN:VEVENT
DTSTART;TZID=America/New_York:20240922T133000
DTEND;TZID=America/New_York:20240922T163000
DTSTAMP:20260421T012626
CREATED:20240423T204214Z
LAST-MODIFIED:20250227T174006Z
UID:5259-1727011800-1727022600@www.madriverskipatrol.org
SUMMARY:OEC In-Person Scenario Training
DESCRIPTION:
URL:https://www.madriverskipatrol.org/event/oec-in-person-scenario-training-7
CATEGORIES:OEC
END:VEVENT
BEGIN:VEVENT
DTSTART;TZID=America/New_York:20240926T183000
DTEND;TZID=America/New_York:20240926T213000
DTSTAMP:20260421T012626
CREATED:20240423T205032Z
LAST-MODIFIED:20250227T174006Z
UID:5278-1727375400-1727386200@www.madriverskipatrol.org
SUMMARY:OEC In-Person Scenario Training
DESCRIPTION:
URL:https://www.madriverskipatrol.org/event/oec-in-person-scenario-training-15
CATEGORIES:OEC
END:VEVENT
BEGIN:VEVENT
DTSTART;TZID=America/New_York:20240929T080000
DTEND;TZID=America/New_York:20240929T170000
DTSTAMP:20260421T012626
CREATED:20160907T022014Z
LAST-MODIFIED:20250227T174006Z
UID:1046-1727596800-1727629200@www.madriverskipatrol.org
SUMMARY:OEC Refresher
DESCRIPTION:Annual OEC Refresher for ALL Mad River Mountain Patrollers.  If you are unable to attend on this date\, see the Ohio Region calendar to attend a refresher at another location.  You remain obligated to register\, complete prerequisites\, and attend at least one refresher to remain active this season.   \nFor more detail and access to the release please click here >> OEC Refresher
URL:https://www.madriverskipatrol.org/event/oecrefresh
LOCATION:Mad River Mountain Ski Resort\, 1000 Snow Valley Rd\, Zanesfield\, OH\, 43360\, United States
CATEGORIES:OEC
END:VEVENT
BEGIN:VEVENT
DTSTART;TZID=America/New_York:20241003T183000
DTEND;TZID=America/New_York:20241003T213000
DTSTAMP:20260421T012626
CREATED:20240423T205103Z
LAST-MODIFIED:20250227T174006Z
UID:5280-1727980200-1727991000@www.madriverskipatrol.org
SUMMARY:OEC In-Person Scenario Training
DESCRIPTION:
URL:https://www.madriverskipatrol.org/event/oec-in-person-scenario-training-16
CATEGORIES:OEC
END:VEVENT
BEGIN:VEVENT
DTSTART;TZID=America/New_York:20241006T080000
DTEND;TZID=America/New_York:20241006T170000
DTSTAMP:20260421T012626
CREATED:20240329T163617Z
LAST-MODIFIED:20250227T174006Z
UID:5195-1728201600-1728234000@www.madriverskipatrol.org
SUMMARY:OEC Practical Testing
DESCRIPTION:The OEC practical test is currently scheduled to be held at MRM on Sunday October 6. If you wish to support the testing as an evaluator or support staff (trained help/patient/runner)\, please contact the OEC Team.  More information to be made available closer to the event.
URL:https://www.madriverskipatrol.org/event/oec-practical-testing
CATEGORIES:OEC
ATTACH;FMTTYPE=image/jpeg:https://www.madriverskipatrol.org/wp-content/uploads/2024/03/OEC-Course-Book.jpg
END:VEVENT
BEGIN:VEVENT
DTSTART;TZID=America/New_York:20241013T080000
DTEND;TZID=America/New_York:20241013T170000
DTSTAMP:20260421T012626
CREATED:20240328T220752Z
LAST-MODIFIED:20250227T174006Z
UID:5193-1728806400-1728838800@www.madriverskipatrol.org
SUMMARY:On The Hill & CPR
DESCRIPTION:Registration is from 7am to 7:59am. Registration desk will close promptly at 8am\, when opening comments and instructions for the day will begin. This will be our traditional day of season prep for chair evac\, CPR\, and Aid room cleanup.  \n\n\n\nPlan to be at MRM most of the day. Lunch will be provided. \n\n\n\nBRING YOUR SKI/BOARD HELMET\, WORK GLOVES\, AND APPROPRIATE ATTIRE BASED ON WEATHER FORECAST. Rain or shine\, we will be outside during the afternoon. Boots appropriate for wet and/or muddy conditions are highly recommended.  \nPer Vail requirements\, If you don’t have your ski/board helmet then you cannot participate in chair evacuation training. \n\n\n\n  \n 
URL:https://www.madriverskipatrol.org/event/on-the-hill-cpr
END:VEVENT
BEGIN:VEVENT
DTSTART;TZID=America/New_York:20241020T120000
DTEND;TZID=America/New_York:20241020T160000
DTSTAMP:20260421T012626
CREATED:20241017T003855Z
LAST-MODIFIED:20250227T174006Z
UID:5758-1729425600-1729440000@www.madriverskipatrol.org
SUMMARY:Senior OEC In-Person Scenario Training
DESCRIPTION:
URL:https://www.madriverskipatrol.org/event/senior-oec-in-person-scenario-training
END:VEVENT
BEGIN:VEVENT
DTSTART;TZID=America/New_York:20241107T180000
DTEND;TZID=America/New_York:20241107T210000
DTSTAMP:20260421T012626
CREATED:20241017T004012Z
LAST-MODIFIED:20250227T174006Z
UID:5760-1731002400-1731013200@www.madriverskipatrol.org
SUMMARY:Senior OEC In-Person Scenario Training
DESCRIPTION:
URL:https://www.madriverskipatrol.org/event/senior-oec-in-person-scenario-training-2
END:VEVENT
BEGIN:VEVENT
DTSTART;TZID=America/New_York:20241107T183000
DTEND;TZID=America/New_York:20241107T213000
DTSTAMP:20260421T012626
CREATED:20240924T190459Z
LAST-MODIFIED:20250227T174006Z
UID:5423-1731004200-1731015000@www.madriverskipatrol.org
SUMMARY:OEC Candidate CPR Training
DESCRIPTION:CPR BLS training for OEC Candidates and Hosts will be held at MRM in the Lodge.  This course has an online component that must be completed ahead of time\, and the skills session will be taught and practiced on Nov 7th at 6:30.  A digital certificate is mailed to the students completing the requirements.  The Candidate or Host must be registered ahead of time.  Please contact Kristen McKenna at kristen_puckett@yahoo.com to obtain access to the online course.  This course is free to the Candidate or Host and paid for by MRM Ski Patrol. 
URL:https://www.madriverskipatrol.org/event/oec-candidate-cpr-training
LOCATION:Mad River Mountain Ski Resort\, 1000 Snow Valley Rd\, Zanesfield\, OH\, 43360\, United States
ATTACH;FMTTYPE=image/jpeg:https://www.madriverskipatrol.org/wp-content/uploads/2024/09/CPR.jpg
END:VEVENT
BEGIN:VEVENT
DTSTART;TZID=America/New_York:20241109T080000
DTEND;TZID=America/New_York:20241109T170000
DTSTAMP:20260421T012626
CREATED:20241016T191558Z
LAST-MODIFIED:20250227T174006Z
UID:5668-1731139200-1731171600@www.madriverskipatrol.org
SUMMARY:Senior OEC/ARM Candidate Clinic
DESCRIPTION:Senior OEC/ARM Candidate Clinic @ Dublin Public Library
URL:https://www.madriverskipatrol.org/event/senior-oec-arm-candidate-clinic
LOCATION:Dublin Public Library\, 75 North High Street\, Dublin\, Ohio\, 43017\, United States
END:VEVENT
BEGIN:VEVENT
DTSTART;TZID=America/New_York:20241109T130000
DTEND;TZID=America/New_York:20241109T143000
DTSTAMP:20260421T012626
CREATED:20241107T151254Z
LAST-MODIFIED:20250227T174006Z
UID:5843-1731157200-1731162600@www.madriverskipatrol.org
SUMMARY:Chair Lift Evacuation Training - Makeup Class
DESCRIPTION:Be sure to sign the release form \nClick here to sign the release form \n\n\n\nBRING YOUR SKI/BOARD HELMET\, WORK GLOVES\, AND APPROPRIATE ATTIRE BASED ON WEATHER FORECAST. Rain or shine\, we will be outside during the afternoon. Boots appropriate for wet and/or muddy conditions are highly recommended. \n\n\n\nPer Vail requirements\, If you don’t have your ski/board helmet then you cannot participate in chair evacuation training. \n 
URL:https://www.madriverskipatrol.org/event/chair-lift-evacuation-training-makeup-class
END:VEVENT
BEGIN:VEVENT
DTSTART;TZID=America/New_York:20241110T080000
DTEND;TZID=America/New_York:20241110T170000
DTSTAMP:20260421T012626
CREATED:20241016T190525Z
LAST-MODIFIED:20250227T174006Z
UID:5661-1731225600-1731258000@www.madriverskipatrol.org
SUMMARY:MRM Ski & Snowboard Swap
DESCRIPTION:If you would like to resell some of your gear\, please complete this release before showing up with items: Ski and Snowboard Swap Sale – Individuals Waiver Agreement \n\n\n\nDoors open at 8am for anyone wanting to sell equipment \n\n\n\n*************************************************************** \n\n\n\nPatrollers: please plan to help out during the day!  Sign Up Here \n 
URL:https://www.madriverskipatrol.org/event/ski-swap
LOCATION:Mad River Mountain Ski Resort\, 1000 Snow Valley Rd\, Zanesfield\, OH\, 43360\, United States
ATTACH;FMTTYPE=image/jpeg:https://www.madriverskipatrol.org/wp-content/uploads/2022/03/mrm_skiswap.jpeg
END:VEVENT
BEGIN:VEVENT
DTSTART;TZID=America/New_York:20241110T120000
DTEND;TZID=America/New_York:20241110T160000
DTSTAMP:20260421T012626
CREATED:20241017T004100Z
LAST-MODIFIED:20250227T173907Z
UID:5762-1731240000-1731254400@www.madriverskipatrol.org
SUMMARY:Senior OEC In-Person Scenario Training
DESCRIPTION:
URL:https://www.madriverskipatrol.org/event/senior-oec-in-person-scenario-training-3
END:VEVENT
BEGIN:VEVENT
DTSTART;TZID=America/New_York:20241117T120000
DTEND;TZID=America/New_York:20241117T160000
DTSTAMP:20260421T012626
CREATED:20241017T004144Z
LAST-MODIFIED:20241210T163858Z
UID:5764-1731844800-1731859200@www.madriverskipatrol.org
SUMMARY:Senior OEC In-Person Scenario Training
DESCRIPTION:
URL:https://www.madriverskipatrol.org/event/senior-oec-in-person-scenario-training-4
END:VEVENT
END:VCALENDAR