BEGIN:VCALENDAR
VERSION:2.0
PRODID:-//MRM Ski Patrol - ECPv6.15.17.1//NONSGML v1.0//EN
CALSCALE:GREGORIAN
METHOD:PUBLISH
X-WR-CALNAME:MRM Ski Patrol
X-ORIGINAL-URL:https://www.madriverskipatrol.org
X-WR-CALDESC:Events for MRM Ski Patrol
REFRESH-INTERVAL;VALUE=DURATION:PT1H
X-Robots-Tag:noindex
X-PUBLISHED-TTL:PT1H
BEGIN:VTIMEZONE
TZID:America/New_York
BEGIN:DAYLIGHT
TZOFFSETFROM:-0500
TZOFFSETTO:-0400
TZNAME:EDT
DTSTART:20250309T070000
END:DAYLIGHT
BEGIN:STANDARD
TZOFFSETFROM:-0400
TZOFFSETTO:-0500
TZNAME:EST
DTSTART:20251102T060000
END:STANDARD
BEGIN:DAYLIGHT
TZOFFSETFROM:-0500
TZOFFSETTO:-0400
TZNAME:EDT
DTSTART:20260308T070000
END:DAYLIGHT
BEGIN:STANDARD
TZOFFSETFROM:-0400
TZOFFSETTO:-0500
TZNAME:EST
DTSTART:20261101T060000
END:STANDARD
BEGIN:DAYLIGHT
TZOFFSETFROM:-0500
TZOFFSETTO:-0400
TZNAME:EDT
DTSTART:20270314T070000
END:DAYLIGHT
BEGIN:STANDARD
TZOFFSETFROM:-0400
TZOFFSETTO:-0500
TZNAME:EST
DTSTART:20271107T060000
END:STANDARD
END:VTIMEZONE
BEGIN:VEVENT
DTSTART;TZID=America/New_York:20260131T160000
DTEND;TZID=America/New_York:20260131T200000
DTSTAMP:20260421T164818
CREATED:20251202T023633Z
LAST-MODIFIED:20251202T023815Z
UID:6619-1769875200-1769889600@www.madriverskipatrol.org
SUMMARY:Rail Jam
DESCRIPTION:
URL:https://www.madriverskipatrol.org/event/rail-jam-2
END:VEVENT
BEGIN:VEVENT
DTSTART;TZID=America/New_York:20260201T080000
DTEND;TZID=America/New_York:20260201T170000
DTSTAMP:20260421T164818
CREATED:20251031T181804Z
LAST-MODIFIED:20260104T175409Z
UID:6362-1769932800-1769965200@www.madriverskipatrol.org
SUMMARY:TES - Toboggan Enhancement Seminar - MRM
DESCRIPTION:The Ohio Region Toboggan Training Team will be coming to MRM for a full day of training!  At no cost to you there will be opportunity to train with some lead folks from our region on technique and strategies\, practicing on hill.  This is a great chance to enhance your skills.  Register at: https://www.ohionsp.org/ohio-region-events/toboggan-enhancement \n\n\n\nA TTW (Toboggan Traineers Workshop) will also be held the same day.  Mentoring and recert trainers can register here: https://www.ohionsp.org/ohio-region-events/ttw
URL:https://www.madriverskipatrol.org/event/tes-toboggan-enhancement-seminar-mrm
LOCATION:Mad River Mountain Ski Resort\, 1000 Snow Valley Rd\, Zanesfield\, OH\, 43360\, United States
END:VEVENT
BEGIN:VEVENT
DTSTART;TZID=America/New_York:20260207T090000
DTEND;TZID=America/New_York:20260207T120000
DTSTAMP:20260421T164818
CREATED:20251202T015530Z
LAST-MODIFIED:20251202T015532Z
UID:6589-1770454800-1770465600@www.madriverskipatrol.org
SUMMARY:Junior Patrol
DESCRIPTION:We will meet out on the hill by the 4 Star lift line at 9 a.m.\, then have a ski or snowboard lesson. From about 10:30 to 11:30\, there will be an OEC lesson for the kids. They will learn how to bandage a wound\, some safety basics\, some intro to the human body\, and various other safety-related themes. After the OEC lesson\, there will be lunch. Each child needs to bring their own lunch\, and we will eat together in the Staff Room across the hall from the Aid Room. If you do bring something to share with the group\, please mark it appropriately (GF\, peanut-free\, etc.) for those with allergies.At noon\, the children will be ready to return to their parents for the rest of the day.
URL:https://www.madriverskipatrol.org/event/junior-patrol-5
LOCATION:Mad River Mountain Ski Resort\, 1000 Snow Valley Rd\, Zanesfield\, OH\, 43360\, United States
END:VEVENT
BEGIN:VEVENT
DTSTART;TZID=America/New_York:20260207T090000
DTEND;TZID=America/New_York:20260208T003000
DTSTAMP:20260421T164818
CREATED:20251119T153253Z
LAST-MODIFIED:20251119T153521Z
UID:6503-1770454800-1770510600@www.madriverskipatrol.org
SUMMARY:Midnight Madness - Double Hours
DESCRIPTION:Mad River’s signature Midnight Madness! \n\n\n\nMad River Mtn. will be open until midnight featuring lift ticket specials\, rental package specials\, and live music in The Loft! \n\n\n\nPatrollers clocking in on this date and clocking out after midnight will receive double hour credit for the shift
URL:https://www.madriverskipatrol.org/event/midnight-madness-double-hours-4
END:VEVENT
BEGIN:VEVENT
DTSTART;TZID=America/New_York:20260207T140000
DTEND;TZID=America/New_York:20260207T160000
DTSTAMP:20260421T164818
CREATED:20260107T153356Z
LAST-MODIFIED:20260116T103105Z
UID:6939-1770472800-1770480000@www.madriverskipatrol.org
SUMMARY:Mad River Mountain Ski Patrol - Ski Along
DESCRIPTION:Become a Ski Patrol Member \n\n\n\nWho Can Join?We don’t require a medical or a first responder background.  We only require that you have a willingness to learn\, the desire to help others\, and a positive attitude.  Our all volunteer organization attracts members from almost every background and experience. \n\n\n\nBenefits of JoiningSince our work is snowsport oriented\, you will get a tremendous amount of skiing/riding during the ski season.  Aside from receiving some of the best emergency care education and training\, you will be involved with a great group of people where camaraderie and FUN rules! \n\n\n\nPlease click here if you are interested in joining patrol or knowing more. \n\n\n\nSki AlongThis is an opportunity to spend a day with Ski Patrol\, find out more about requirements\, and meet some of the dedicated folks who already patrol.  \n\n\n\nSign up here if you are interested in attending in our ski along. \n\n\n\n\nSign up to attend the ski along\n\n\n\n\n \n\n\n\nLinksTo learn more about what the Ski Patrol is check out this link – Ski Patrol: Who and What They Are
URL:https://www.madriverskipatrol.org/event/mad-river-mountain-ski-patrol-ski-along
LOCATION:Mad River Mountain Ski Resort\, 1000 Snow Valley Rd\, Zanesfield\, OH\, 43360\, United States
END:VEVENT
BEGIN:VEVENT
DTSTART;TZID=America/New_York:20260208T080000
DTEND;TZID=America/New_York:20260208T170000
DTSTAMP:20260421T164818
CREATED:20251202T022520Z
LAST-MODIFIED:20251202T022544Z
UID:6609-1770537600-1770570000@www.madriverskipatrol.org
SUMMARY:OES
DESCRIPTION:
URL:https://www.madriverskipatrol.org/event/oes
END:VEVENT
BEGIN:VEVENT
DTSTART;TZID=America/New_York:20260214T080000
DTEND;TZID=America/New_York:20260214T170000
DTSTAMP:20260421T164818
CREATED:20251202T023209Z
LAST-MODIFIED:20251202T023737Z
UID:6615-1771056000-1771088400@www.madriverskipatrol.org
SUMMARY:Bubly Bash
DESCRIPTION:Special day of Tubing at bubly Tubing Park
URL:https://www.madriverskipatrol.org/event/bubly-bash
END:VEVENT
BEGIN:VEVENT
DTSTART;TZID=America/New_York:20260214T090000
DTEND;TZID=America/New_York:20260214T120000
DTSTAMP:20260421T164818
CREATED:20251202T015447Z
LAST-MODIFIED:20251202T015450Z
UID:6590-1771059600-1771070400@www.madriverskipatrol.org
SUMMARY:Junior Patrol
DESCRIPTION:We will meet out on the hill by the 4 Star lift line at 9 a.m.\, then have a ski or snowboard lesson. From about 10:30 to 11:30\, there will be an OEC lesson for the kids. They will learn how to bandage a wound\, some safety basics\, some intro to the human body\, and various other safety-related themes. After the OEC lesson\, there will be lunch. Each child needs to bring their own lunch\, and we will eat together in the Staff Room across the hall from the Aid Room. If you do bring something to share with the group\, please mark it appropriately (GF\, peanut-free\, etc.) for those with allergies.At noon\, the children will be ready to return to their parents for the rest of the day.
URL:https://www.madriverskipatrol.org/event/junior-patrol-4
LOCATION:Mad River Mountain Ski Resort\, 1000 Snow Valley Rd\, Zanesfield\, OH\, 43360\, United States
END:VEVENT
BEGIN:VEVENT
DTSTART;TZID=America/New_York:20260215T080000
DTEND;TZID=America/New_York:20260215T170000
DTSTAMP:20260421T164818
CREATED:20251202T022632Z
LAST-MODIFIED:20251202T022637Z
UID:6611-1771142400-1771174800@www.madriverskipatrol.org
SUMMARY:OES
DESCRIPTION:
URL:https://www.madriverskipatrol.org/event/oes-2
END:VEVENT
BEGIN:VEVENT
DTSTART;TZID=America/New_York:20260216T090000
DTEND;TZID=America/New_York:20260216T210000
DTSTAMP:20260421T164818
CREATED:20251119T154622Z
LAST-MODIFIED:20251119T154625Z
UID:6519-1771232400-1771275600@www.madriverskipatrol.org
SUMMARY:Holiday - Double Hours
DESCRIPTION:Patrollers clocked in and out on this day will receive double hour credit for the time they were on shift
URL:https://www.madriverskipatrol.org/event/holiday-double-hours-6
END:VEVENT
BEGIN:VEVENT
DTSTART;TZID=America/New_York:20260218T190000
DTEND;TZID=America/New_York:20260218T203000
DTSTAMP:20260421T164818
CREATED:20250224T222545Z
LAST-MODIFIED:20250225T001254Z
UID:6011-1771441200-1771446600@www.madriverskipatrol.org
SUMMARY:Rucksack Challenge 2026 @ Mad River Mountain
DESCRIPTION:Overview: The Ninety-Pound Rucksack Challenge (“Challenge”) will create a ski mountaineering event that leans into the legacy of the 10th Mountain Division while celebrating its historic contributions to both the Allied victory in World War II and the development of the post-war outdoor recreation industry. \n\n\n\nThe Event: On February 18\, 2026\, a tribute to the 10th Mountain Division’s signature action will take place at 7 p.m at MRM as well as many other locations around the country. \n\n\n\nBackground: The 10th Mountain Division was the US Army’s World War II specialized unit of skiers and climbers whose January 1945 insertion into the Italian Theater helped end the war in Europe. After training for more than three years in the Adirondacks\, Cascades\, and Rockies\, often carrying ninety-pound “rucksacks\,” or backpacks\, they were inserted into Italy’s Apennine Mountains to break Hitler’s Gothic Line\, a fortified series of summits and ridges the Nazis had used to stymie Allied advances for more than 500 days. \n\n\n\nAt 7 p.m.\, February 18\, 1945\, some 800 10th Mountain Division soldiers began a night-time ascent of Riva Ridge\, the Gothic Line’s lynchpin. Carrying packs that weighed up to 60 pounds\, they ascended four different routes that ranged from 1\,500 to 2\,500 feet of vertical gain to take the Germans on top without a casualty. Their successful ascent not only helped break the Gothic Line; it catalyzed the German surrender of Italy and hastened the end of the war as well. \n\n\n\nSki towns from around America\, including Lake Placid\, Sun Valley and Jackson Hole\, contributed soldiers to the 10th. Post-war\, 10th Mountain Division veterans founded or developed more than 60 ski areas around America\, including Steamboat\, Vail\, Arapahoe Basin and Jackson’s Snow King Mountain. \n\n\n\nHow It Works: At Mad River we will complete this challenge from 7-9pm on Feb 18th. Because Mad River is only 300 ft tall\, we will complete this challenge by hiking up the hill in a predetermined route and then ski/board descend back to the start of the loop. Participants should plan on completing 3-5 loops. Uphill travel can include skiing or hiking and wearing a rucksack with up to 50 lbs is encouraged. Members of the public who sign waivers releasing participating entities from liability will be welcome to join.
URL:https://www.madriverskipatrol.org/event/rucksack-challenge-2026-mad-river-mountain
END:VEVENT
BEGIN:VEVENT
DTSTART;TZID=America/New_York:20260221T090000
DTEND;TZID=America/New_York:20260221T120000
DTSTAMP:20260421T164818
CREATED:20251202T015301Z
LAST-MODIFIED:20251202T015304Z
UID:6587-1771664400-1771675200@www.madriverskipatrol.org
SUMMARY:Junior Patrol
DESCRIPTION:We will meet out on the hill by the 4 Star lift line at 9 a.m.\, then have a ski or snowboard lesson. From about 10:30 to 11:30\, there will be an OEC lesson for the kids. They will learn how to bandage a wound\, some safety basics\, some intro to the human body\, and various other safety-related themes. After the OEC lesson\, there will be lunch. Each child needs to bring their own lunch\, and we will eat together in the Staff Room across the hall from the Aid Room. If you do bring something to share with the group\, please mark it appropriately (GF\, peanut-free\, etc.) for those with allergies.At noon\, the children will be ready to return to their parents for the rest of the day.
URL:https://www.madriverskipatrol.org/event/junior-patrol-3
LOCATION:Mad River Mountain Ski Resort\, 1000 Snow Valley Rd\, Zanesfield\, OH\, 43360\, United States
END:VEVENT
BEGIN:VEVENT
DTSTART;TZID=America/New_York:20260221T090000
DTEND;TZID=America/New_York:20260222T003000
DTSTAMP:20260421T164818
CREATED:20251119T153347Z
LAST-MODIFIED:20251119T153350Z
UID:6505-1771664400-1771720200@www.madriverskipatrol.org
SUMMARY:Midnight Madness - Double Hours
DESCRIPTION:Mad River’s signature Midnight Madness! \n\n\n\nMad River Mtn. will be open until midnight featuring lift ticket specials\, rental package specials\, and live music in The Loft! \n\n\n\nPatrollers clocking in on this date and clocking out after midnight will receive double hour credit for the shift
URL:https://www.madriverskipatrol.org/event/midnight-madness-double-hours-5
END:VEVENT
BEGIN:VEVENT
DTSTART;TZID=America/New_York:20260228T090000
DTEND;TZID=America/New_York:20260228T120000
DTSTAMP:20260421T164818
CREATED:20251202T015202Z
LAST-MODIFIED:20251202T015205Z
UID:6585-1772269200-1772280000@www.madriverskipatrol.org
SUMMARY:Junior Patrol
DESCRIPTION:We will meet out on the hill by the 4 Star lift line at 9 a.m.\, then have a ski or snowboard lesson. From about 10:30 to 11:30\, there will be an OEC lesson for the kids. They will learn how to bandage a wound\, some safety basics\, some intro to the human body\, and various other safety-related themes. After the OEC lesson\, there will be lunch. Each child needs to bring their own lunch\, and we will eat together in the Staff Room across the hall from the Aid Room. If you do bring something to share with the group\, please mark it appropriately (GF\, peanut-free\, etc.) for those with allergies.At noon\, the children will be ready to return to their parents for the rest of the day.
URL:https://www.madriverskipatrol.org/event/junior-patrol-2
LOCATION:Mad River Mountain Ski Resort\, 1000 Snow Valley Rd\, Zanesfield\, OH\, 43360\, United States
END:VEVENT
BEGIN:VEVENT
DTSTART;TZID=America/New_York:20260228T090000
DTEND;TZID=America/New_York:20260301T003000
DTSTAMP:20260421T164818
CREATED:20251119T153445Z
LAST-MODIFIED:20260119T192737Z
UID:6507-1772269200-1772325000@www.madriverskipatrol.org
SUMMARY:Midnight Madness - Double Hours
DESCRIPTION:Mad River’s signature Midnight Madness! \n\n\n\nMad River Mtn. will be open until midnight featuring lift ticket specials\, rental package specials\, and live music in The Loft! \n\n\n\nPatrollers clocking in on this date and clocking out after midnight will receive double hour credit for the shift
URL:https://www.madriverskipatrol.org/event/midnight-madness-double-hours-6
END:VEVENT
BEGIN:VEVENT
DTSTART;TZID=America/New_York:20260228T093000
DTEND;TZID=America/New_York:20260228T120000
DTSTAMP:20260421T164818
CREATED:20260221T094229Z
LAST-MODIFIED:20260221T094429Z
UID:7041-1772271000-1772280000@www.madriverskipatrol.org
SUMMARY:Candidate Hill Climb and Celebration
DESCRIPTION:Come and join us to help cheer on this years graduating candidates as they climb the hill and get their red jackets. \n\n\n\nWe will gather at 9:30am in the loft and then head out to the hill for the climb.
URL:https://www.madriverskipatrol.org/event/candidate-hill-climb-and-celebration
END:VEVENT
BEGIN:VEVENT
DTSTART;TZID=America/New_York:20260301T090000
DTEND;TZID=America/New_York:20260301T170000
DTSTAMP:20260421T164818
CREATED:20251202T023334Z
LAST-MODIFIED:20260225T180432Z
UID:6617-1772355600-1772384400@www.madriverskipatrol.org
SUMMARY:Spring Fling
DESCRIPTION:End of Season Celebration
URL:https://www.madriverskipatrol.org/event/spring-fling-2
END:VEVENT
BEGIN:VEVENT
DTSTART;TZID=America/New_York:20260307T090000
DTEND;TZID=America/New_York:20260307T220000
DTSTAMP:20260421T164818
CREATED:20260225T175558Z
LAST-MODIFIED:20260227T230438Z
UID:7044-1772874000-1772920800@www.madriverskipatrol.org
SUMMARY:Rail Jam
DESCRIPTION:
URL:https://www.madriverskipatrol.org/event/rail-jam-and-possible-mid-mad
END:VEVENT
BEGIN:VEVENT
DTSTART;TZID=America/New_York:20260308T090000
DTEND;TZID=America/New_York:20260308T180000
DTSTAMP:20260421T164818
CREATED:20260227T230735Z
LAST-MODIFIED:20260307T135012Z
UID:7051-1772960400-1772992800@www.madriverskipatrol.org
SUMMARY:Last Day - Patrollers & Employees
DESCRIPTION:MRM closes to the public at 4.   Employees and Patrollers only free ski and party.
URL:https://www.madriverskipatrol.org/event/last-day-patrollers-employees
END:VEVENT
BEGIN:VEVENT
DTSTART;TZID=America/New_York:20260325T190000
DTEND;TZID=America/New_York:20260325T210000
DTSTAMP:20260421T164818
CREATED:20260307T112518Z
LAST-MODIFIED:20260309T011951Z
UID:7071-1774465200-1774472400@www.madriverskipatrol.org
SUMMARY:OEC and Mountain Host program Kick-off
DESCRIPTION:OEC and Mountain Host program kick-offs for the 2026-2027 season.  Attendees should bring something to take notes with and should plan for 1 – 2 hours.We will meet in the Cafeteria
URL:https://www.madriverskipatrol.org/event/oec-and-mountain-host-program-kick-off
LOCATION:Mad River Mountain Ski Resort\, 1000 Snow Valley Rd\, Zanesfield\, OH\, 43360\, United States
END:VEVENT
BEGIN:VEVENT
DTSTART;TZID=America/New_York:20260712T110000
DTEND;TZID=America/New_York:20260712T170000
DTSTAMP:20260421T164818
CREATED:20260119T200608Z
LAST-MODIFIED:20260119T200609Z
UID:6998-1783854000-1783875600@www.madriverskipatrol.org
SUMMARY:OEC In-Person Scenario Training
DESCRIPTION:
URL:https://www.madriverskipatrol.org/event/oec-in-person-scenario-training-18
END:VEVENT
BEGIN:VEVENT
DTSTART;TZID=America/New_York:20260719T110000
DTEND;TZID=America/New_York:20260719T170000
DTSTAMP:20260421T164818
CREATED:20260119T200655Z
LAST-MODIFIED:20260119T200656Z
UID:7000-1784458800-1784480400@www.madriverskipatrol.org
SUMMARY:OEC In-Person Scenario Training
DESCRIPTION:
URL:https://www.madriverskipatrol.org/event/oec-in-person-scenario-training-22
END:VEVENT
BEGIN:VEVENT
DTSTART;TZID=America/New_York:20260726T110000
DTEND;TZID=America/New_York:20260726T170000
DTSTAMP:20260421T164818
CREATED:20260119T200731Z
LAST-MODIFIED:20260119T200732Z
UID:7002-1785063600-1785085200@www.madriverskipatrol.org
SUMMARY:OEC In-Person Scenario Training
DESCRIPTION:
URL:https://www.madriverskipatrol.org/event/oec-in-person-scenario-training-23
END:VEVENT
BEGIN:VEVENT
DTSTART;TZID=America/New_York:20260802T110000
DTEND;TZID=America/New_York:20260802T170000
DTSTAMP:20260421T164818
CREATED:20260119T200752Z
LAST-MODIFIED:20260119T200753Z
UID:7004-1785668400-1785690000@www.madriverskipatrol.org
SUMMARY:OEC In-Person Scenario Training
DESCRIPTION:
URL:https://www.madriverskipatrol.org/event/oec-in-person-scenario-training-24
END:VEVENT
BEGIN:VEVENT
DTSTART;TZID=America/New_York:20260809T110000
DTEND;TZID=America/New_York:20260809T170000
DTSTAMP:20260421T164818
CREATED:20260119T200816Z
LAST-MODIFIED:20260119T200817Z
UID:7006-1786273200-1786294800@www.madriverskipatrol.org
SUMMARY:OEC In-Person Scenario Training
DESCRIPTION:
URL:https://www.madriverskipatrol.org/event/oec-in-person-scenario-training-25
END:VEVENT
BEGIN:VEVENT
DTSTART;TZID=America/New_York:20260816T110000
DTEND;TZID=America/New_York:20260816T170000
DTSTAMP:20260421T164818
CREATED:20260119T200834Z
LAST-MODIFIED:20260119T200835Z
UID:7008-1786878000-1786899600@www.madriverskipatrol.org
SUMMARY:OEC In-Person Scenario Training
DESCRIPTION:
URL:https://www.madriverskipatrol.org/event/oec-in-person-scenario-training-26
END:VEVENT
BEGIN:VEVENT
DTSTART;TZID=America/New_York:20260823T110000
DTEND;TZID=America/New_York:20260823T170000
DTSTAMP:20260421T164818
CREATED:20260119T200907Z
LAST-MODIFIED:20260119T200908Z
UID:7010-1787482800-1787504400@www.madriverskipatrol.org
SUMMARY:OEC In-Person Scenario Training
DESCRIPTION:
URL:https://www.madriverskipatrol.org/event/oec-in-person-scenario-training-27
END:VEVENT
BEGIN:VEVENT
DTSTART;TZID=America/New_York:20260830T110000
DTEND;TZID=America/New_York:20260830T170000
DTSTAMP:20260421T164818
CREATED:20260119T200934Z
LAST-MODIFIED:20260119T200935Z
UID:7012-1788087600-1788109200@www.madriverskipatrol.org
SUMMARY:OEC In-Person Scenario Training
DESCRIPTION:
URL:https://www.madriverskipatrol.org/event/oec-in-person-scenario-training-28
END:VEVENT
BEGIN:VEVENT
DTSTART;TZID=America/New_York:20260913T080000
DTEND;TZID=America/New_York:20260913T170000
DTSTAMP:20260421T164818
CREATED:20260119T201305Z
LAST-MODIFIED:20260119T201306Z
UID:7020-1789286400-1789318800@www.madriverskipatrol.org
SUMMARY:OEC - Instructor Refresher at MRM
DESCRIPTION:
URL:https://www.madriverskipatrol.org/event/oec-instructor-refresher-at-mrm-2
LOCATION:Mad River Mountain Ski Resort\, 1000 Snow Valley Rd\, Zanesfield\, OH\, 43360\, United States
END:VEVENT
BEGIN:VEVENT
DTSTART;TZID=America/New_York:20260920T110000
DTEND;TZID=America/New_York:20260920T170000
DTSTAMP:20260421T164818
CREATED:20260119T201006Z
LAST-MODIFIED:20260119T201007Z
UID:7014-1789902000-1789923600@www.madriverskipatrol.org
SUMMARY:OEC In-Person Scenario Training
DESCRIPTION:
URL:https://www.madriverskipatrol.org/event/oec-in-person-scenario-training-29
END:VEVENT
END:VCALENDAR