BEGIN:VCALENDAR
VERSION:2.0
PRODID:-//MRM Ski Patrol - ECPv6.15.17.1//NONSGML v1.0//EN
CALSCALE:GREGORIAN
METHOD:PUBLISH
X-ORIGINAL-URL:https://www.madriverskipatrol.org
X-WR-CALDESC:Events for MRM Ski Patrol
REFRESH-INTERVAL;VALUE=DURATION:PT1H
X-Robots-Tag:noindex
X-PUBLISHED-TTL:PT1H
BEGIN:VTIMEZONE
TZID:America/New_York
BEGIN:DAYLIGHT
TZOFFSETFROM:-0500
TZOFFSETTO:-0400
TZNAME:EDT
DTSTART:20240310T070000
END:DAYLIGHT
BEGIN:STANDARD
TZOFFSETFROM:-0400
TZOFFSETTO:-0500
TZNAME:EST
DTSTART:20241103T060000
END:STANDARD
BEGIN:DAYLIGHT
TZOFFSETFROM:-0500
TZOFFSETTO:-0400
TZNAME:EDT
DTSTART:20250309T070000
END:DAYLIGHT
BEGIN:STANDARD
TZOFFSETFROM:-0400
TZOFFSETTO:-0500
TZNAME:EST
DTSTART:20251102T060000
END:STANDARD
BEGIN:DAYLIGHT
TZOFFSETFROM:-0500
TZOFFSETTO:-0400
TZNAME:EDT
DTSTART:20260308T070000
END:DAYLIGHT
BEGIN:STANDARD
TZOFFSETFROM:-0400
TZOFFSETTO:-0500
TZNAME:EST
DTSTART:20261101T060000
END:STANDARD
BEGIN:DAYLIGHT
TZOFFSETFROM:-0500
TZOFFSETTO:-0400
TZNAME:EDT
DTSTART:20270314T070000
END:DAYLIGHT
BEGIN:STANDARD
TZOFFSETFROM:-0400
TZOFFSETTO:-0500
TZNAME:EST
DTSTART:20271107T060000
END:STANDARD
END:VTIMEZONE
BEGIN:VEVENT
DTSTART;TZID=America/New_York:20250914T080000
DTEND;TZID=America/New_York:20250914T170000
DTSTAMP:20260421T154042
CREATED:20250405T150009Z
LAST-MODIFIED:20250905T140443Z
UID:6137-1757836800-1757869200@www.madriverskipatrol.org
SUMMARY:OEC - Instructor Refresher at MRM
DESCRIPTION:
URL:https://www.madriverskipatrol.org/event/oec-instructor-refresher-at-mrm
LOCATION:Mad River Mountain Ski Resort\, 1000 Snow Valley Rd\, Zanesfield\, OH\, 43360\, United States
END:VEVENT
BEGIN:VEVENT
DTSTART;TZID=America/New_York:20250921T110000
DTEND;TZID=America/New_York:20250921T170000
DTSTAMP:20260421T154042
CREATED:20250815T153410Z
LAST-MODIFIED:20250905T140443Z
UID:6273-1758452400-1758474000@www.madriverskipatrol.org
SUMMARY:OEC In-Person Scenario Training
DESCRIPTION:
URL:https://www.madriverskipatrol.org/event/oec-in-person-scenario-training-20
END:VEVENT
BEGIN:VEVENT
DTSTART;TZID=America/New_York:20250928T073000
DTEND;TZID=America/New_York:20250928T190000
DTSTAMP:20260421T154042
CREATED:20250405T150839Z
LAST-MODIFIED:20250623T142821Z
UID:6140-1759044600-1759086000@www.madriverskipatrol.org
SUMMARY:OEC Refresher | CPR | Chair Evac | Tailgate & Awards
DESCRIPTION:Patrol Refresher at MRM. Plan for all day 7:30 a.m. – 7 p.m. We will be combining Business Meeting\, Refresher\, CPR\, Chair Evac\, and end with a big Tailgate. Awards will be presented at the Tailgate. Everyone is needed to pull this off.In order for this to work well – all online pre-work must be completed prior to your arrival.
URL:https://www.madriverskipatrol.org/event/oec-patrol-refresher-at-mrm
LOCATION:Mad River Mountain Ski Resort\, 1000 Snow Valley Rd\, Zanesfield\, OH\, 43360\, United States
CATEGORIES:OEC
END:VEVENT
BEGIN:VEVENT
DTSTART;TZID=America/New_York:20251005T110000
DTEND;TZID=America/New_York:20251005T170000
DTSTAMP:20260421T154042
CREATED:20250815T153544Z
LAST-MODIFIED:20250905T140443Z
UID:6275-1759662000-1759683600@www.madriverskipatrol.org
SUMMARY:OEC In-Person Scenario Training
DESCRIPTION:
URL:https://www.madriverskipatrol.org/event/oec-in-person-scenario-training-21
END:VEVENT
BEGIN:VEVENT
DTSTART;TZID=America/New_York:20251012T090000
DTEND;TZID=America/New_York:20251012T170000
DTSTAMP:20260421T154042
CREATED:20250405T151016Z
LAST-MODIFIED:20250623T135700Z
UID:6142-1760259600-1760288400@www.madriverskipatrol.org
SUMMARY:OEC Practical Test
DESCRIPTION: 10/12/2025 – 9:00 – 5:00 p.m. OEC Practical Test.
URL:https://www.madriverskipatrol.org/event/6142
LOCATION:Mad River Mountain Ski Resort\, 1000 Snow Valley Rd\, Zanesfield\, OH\, 43360\, United States
END:VEVENT
BEGIN:VEVENT
DTSTART;TZID=America/New_York:20251012T100000
DTEND;TZID=America/New_York:20251012T220000
DTSTAMP:20260421T154042
CREATED:20250905T135420Z
LAST-MODIFIED:20250905T140408Z
UID:6281-1760263200-1760306400@www.madriverskipatrol.org
SUMMARY:Texas Roadhouse - Mad River Mountain Ski Patrol Fundraiser
DESCRIPTION:Support Mad River Mountain Ski Patrol On Sunday\, October 12th! \n\n\n\nOn Sunday\, October 12th we are partnering with Texas Roadhouse in Marysville\, Ohio\, to hold a special fundraising event from 10:00 AM to 10:00 PM. During that time\, a portion of their sales will go directly to support the Mad River Mountain Ski Patrol — helping us continue training\, education\, and providing top-notch safety on the slopes. \n\n\n\n✅ Dine-in or carry-out — it all helps! \n\n\n\n✅ Invite your family\, friends\, and neighbors. \n\n\n\n✅ Every meal makes a difference in supporting our team. \n\n\n\nEveryone must bring the attached flyer to Texas Roadhouse for them to be able to track total food purchases on behalf of the patrol. You will need to print and bring the flyer to the restaurant to participate. \n\n\n\nThank you for your support! 🤠✨ \n\n\n\n\n\n\n\nhttps://www.madriverskipatrol.org/wp-content/uploads/2025/09/Mad-River-Mountain-Ski-Patrol-Texas-Roadhouse-Fundraiser-Flyer.pdf
URL:https://www.madriverskipatrol.org/event/texas-roadhouse-mrmsp-fundraiser
LOCATION:Texas Roadhouse – Marysville\, Ohio\, 16601 Square Dr.\, Marysville\, Ohio\, 43040\, United States
END:VEVENT
BEGIN:VEVENT
DTSTART;TZID=America/New_York:20251026T090000
DTEND;TZID=America/New_York:20251026T160000
DTSTAMP:20260421T154042
CREATED:20251004T122639Z
LAST-MODIFIED:20251020T133035Z
UID:6302-1761469200-1761494400@www.madriverskipatrol.org
SUMMARY:Uniforms\, FUCU\,OTH Make-up\, BLS day
DESCRIPTION:
URL:https://www.madriverskipatrol.org/event/uniforms-fucuoth-make-up-bls-day
LOCATION:Mad River Mountain Ski Resort\, 1000 Snow Valley Rd\, Zanesfield\, OH\, 43360\, United States
END:VEVENT
BEGIN:VEVENT
DTSTART;TZID=America/New_York:20251108T080000
DTEND;TZID=America/New_York:20251108T180000
DTSTAMP:20260421T154042
CREATED:20251017T140133Z
LAST-MODIFIED:20251029T151118Z
UID:6336-1762588800-1762624800@www.madriverskipatrol.org
SUMMARY:Annual Ski Swap - Bridge Park Pavilion
DESCRIPTION:Winter is just around the corner\, and Mad River Mountain Ski Patrol invites you to our Annual Ski Swap in Bridge Park\, Dublin — a perfect opportunity to buy\, sell\, or trade your ski\, snowboard\, and winter gear! \n\n\n\nLocation: Bridge Park Pavilion – 6635 Riverside Drive\, Dublin\, OH 43017Hours: 8:00 AM – 6:00 PM \n\n\n\nEnjoy a full day of community fun featuring local favorites: \n\n\n\n\nWhere There’s Smoke BBQ\n\n\n\nGraeter’s Ice Cream\n\n\n\nTravelin’ Tom’s Coffee Truck\n\n\n\nPlus\, we’ll be serving hot apple cider and baked goods out of the pavilion!\n\n\n\n\nProceeds benefit the Mad River Mountain Ski Patrol\, helping us keep the slopes safe all season long. \n\n\n\nWe hope to see you there — come swap gear\, grab a bite\, and celebrate the season! \n\n\n\n================================================================ \n\n\n\n\n\n\n\n Ski Swap Seller Registration Instructions \n\n\n\nWant to sell your gear at the Mad River Mountain Ski Patrol Annual Ski Swap? It’s easy! \n\n\n\nPlease follow the steps below to register your items: \n\n\n\n\nClick the link below to access the Seller Registration Form: Register Your Gear Here\n\n\n\nComplete all required fields for each item you plan to sell — including item type\, size\, description\, and asking price.\n\n\n\nSubmit the form once all items are entered.\n\n\n\nOn event day (Saturday\, November 8\, 2025 | 8AM–6PM at Bridge Park\, Dublin)\, bring your labeled gear to the check-in area at the pavilion.\n\n\n\nMad River Mountain Ski Patrol and Play It Again Sports Hilliard will handle the sale process. Proceeds benefit the Mad River Mountain Ski Patrol.\n\n\n\n\nThank you for supporting your local ski community — see you at the swap! \n\n\n\n================================================================ \n\n\n\n Participant Liability Release Form Instructions\n\n\n\nAll participants in the Mad River Mountain Ski Patrol Annual Ski Swap must complete a liability release form before selling\, trading\, or participating in any event activities. \n\n\n\nPlease read the following carefully and complete the form prior to the event. \n\n\n\n\nClick the link below to open the Liability Release Form: Complete the Liability Release Form\n\n\n\nReview the terms of participation and liability waiver.– This includes acknowledgment of personal responsibility for any equipment brought\, sold\, or traded during the event.– You must confirm your understanding of event safety rules and volunteer directions.\n\n\n\nFill out all required fields with your contact information and signature.\n\n\n\nSubmit the form prior to your arrival at the event on Saturday\, November 8\, 2025.\n\n\n\n\nThank you for helping us make this a safe and successful event!
URL:https://www.madriverskipatrol.org/event/get-ready-for-the-annual-ski-swap
LOCATION:Pavilion @ South End of Bridge Park\, Dublin\, Ohio\, 6635 Riverside Dr\, Dublin\, OH\, 43017\, United States
CATEGORIES:MRM General,S&T
END:VEVENT
BEGIN:VEVENT
DTSTART;TZID=America/New_York:20251206T140000
DTEND;TZID=America/New_York:20251206T190000
DTSTAMP:20260421T154042
CREATED:20251129T155352Z
LAST-MODIFIED:20251129T160700Z
UID:6556-1765029600-1765047600@www.madriverskipatrol.org
SUMMARY:Warren Miller's Sno-ciety - Columbus
DESCRIPTION:Warren Miller’s Sno-ciety on Mad River Mountain Website \n\n\n\nJoin Mad River Mountain in Columbus as we welcome winter\, build excitement with local partners\, and share a chance to win many incredible door prizes like lift tickets\, ski gear\, & more! \n\n\n\nLocation:  Phoenix Theatres Lennox Town Center 24 777 Kinnear Road Columbus\, OH 43212 \n\n\n\nTimeline of Events: \n\n\n\n2:00 PM – 3:00 PM Doors Open – visit with sponsoring ski shops & ski resorts3:00 PM – 4:00 PM Showtime (1st Half of Film)4:00 PM – 4:15 PM Intermission + Door Prizes4:15 PM – 5:00 PM Showtime (2nd Half of Film) \n\n\n\nWarren Miller’s 2025 Film “SNO-CIETY” Trailer \n\n\n\nCost:  $20-$25 \n\n\n\nBuy Tickets Now \n 
URL:https://www.madriverskipatrol.org/event/warren-millers-sno-ciety-columbus
LOCATION:Phoenix Theatres Lennox Town Center 24\, 777 Kinnear Road\, Columbus\, OH\, 43212\, United States
END:VEVENT
BEGIN:VEVENT
DTSTART;TZID=America/New_York:20251207T120000
DTEND;TZID=America/New_York:20251207T140000
DTSTAMP:20260421T154042
CREATED:20251124T011605Z
LAST-MODIFIED:20251202T023844Z
UID:6544-1765108800-1765116000@www.madriverskipatrol.org
SUMMARY:Welcome to Winter - MRM Team + Ski Patrol
DESCRIPTION:Our General Manager\,  Alajos Fiel has invited the entire patrol to this seasons orientation meeting in a few weeks. \n\n\n\nIt’s called “Welcome to Winter” and will be held at MRM on 12/7/2025 from 12:00 noon – 2:00 p.m.We are all welcome to join.  Al will share Patrol Highlights.  There  will be snacks and drinks. \n\n\n\n** There is going to be a raffle – we are not eligible to participate in that.
URL:https://www.madriverskipatrol.org/event/welcome-to-winter-mrm-team-ski-patrol
END:VEVENT
BEGIN:VEVENT
DTSTART;TZID=America/New_York:20251212T150000
DTEND;TZID=America/New_York:20251212T220000
DTSTAMP:20260421T154042
CREATED:20251208T225030Z
LAST-MODIFIED:20251208T225416Z
UID:6770-1765551600-1765576800@www.madriverskipatrol.org
SUMMARY:MRM Opening Day !! 3-10pm
DESCRIPTION:Mad River Mountain is officially open on Dec 12 from 3-10.   Will be open Sat 9-10 and Sun 9-8.   Then the following week M-R 3-9pm
URL:https://www.madriverskipatrol.org/event/mrm-opening-day-3-10
LOCATION:Mad River Mountain Ski Resort\, 1000 Snow Valley Rd\, Zanesfield\, OH\, 43360\, United States
END:VEVENT
BEGIN:VEVENT
DTSTART;TZID=America/New_York:20251224T090000
DTEND;TZID=America/New_York:20251224T210000
DTSTAMP:20260421T154042
CREATED:20251119T154056Z
LAST-MODIFIED:20251119T154127Z
UID:6509-1766566800-1766610000@www.madriverskipatrol.org
SUMMARY:Holiday - Double Hours
DESCRIPTION:Patrollers clocked in and out on this day will receive double hour credit for the time they were on shift
URL:https://www.madriverskipatrol.org/event/holiday-double-hours
END:VEVENT
BEGIN:VEVENT
DTSTART;TZID=America/New_York:20251225T090000
DTEND;TZID=America/New_York:20251225T210000
DTSTAMP:20260421T154042
CREATED:20251119T154216Z
LAST-MODIFIED:20251119T154219Z
UID:6511-1766653200-1766696400@www.madriverskipatrol.org
SUMMARY:Holiday - Double Hours
DESCRIPTION:Patrollers clocked in and out on this day will receive double hour credit for the time they were on shift
URL:https://www.madriverskipatrol.org/event/holiday-double-hours-2
END:VEVENT
BEGIN:VEVENT
DTSTART;TZID=America/New_York:20251231T090000
DTEND;TZID=America/New_York:20251231T210000
DTSTAMP:20260421T154042
CREATED:20251119T154304Z
LAST-MODIFIED:20251119T154308Z
UID:6513-1767171600-1767214800@www.madriverskipatrol.org
SUMMARY:Holiday - Double Hours
DESCRIPTION:Patrollers clocked in and out on this day will receive double hour credit for the time they were on shift
URL:https://www.madriverskipatrol.org/event/holiday-double-hours-3
END:VEVENT
BEGIN:VEVENT
DTSTART;TZID=America/New_York:20260101T090000
DTEND;TZID=America/New_York:20260101T210000
DTSTAMP:20260421T154042
CREATED:20251119T154418Z
LAST-MODIFIED:20251119T154421Z
UID:6515-1767258000-1767301200@www.madriverskipatrol.org
SUMMARY:Holiday - Double Hours
DESCRIPTION:Patrollers clocked in and out on this day will receive double hour credit for the time they were on shift
URL:https://www.madriverskipatrol.org/event/holiday-double-hours-4
END:VEVENT
BEGIN:VEVENT
DTSTART;TZID=America/New_York:20260110T090000
DTEND;TZID=America/New_York:20260110T120000
DTSTAMP:20260421T154042
CREATED:20251202T015053Z
LAST-MODIFIED:20251202T015057Z
UID:6583-1768035600-1768046400@www.madriverskipatrol.org
SUMMARY:Junior Patrol
DESCRIPTION:We will meet out on the hill by the 4 Star lift line at 9 a.m.\, then have a ski or snowboard lesson. From about 10:30 to 11:30\, there will be an OEC lesson for the kids. They will learn how to bandage a wound\, some safety basics\, some intro to the human body\, and various other safety-related themes. After the OEC lesson\, there will be lunch. Each child needs to bring their own lunch\, and we will eat together in the Staff Room across the hall from the Aid Room. If you do bring something to share with the group\, please mark it appropriately (GF\, peanut-free\, etc.) for those with allergies.At noon\, the children will be ready to return to their parents for the rest of the day.
URL:https://www.madriverskipatrol.org/event/junior-patrol
LOCATION:Mad River Mountain Ski Resort\, 1000 Snow Valley Rd\, Zanesfield\, OH\, 43360\, United States
END:VEVENT
BEGIN:VEVENT
DTSTART;TZID=America/New_York:20260110T090000
DTEND;TZID=America/New_York:20260111T003000
DTSTAMP:20260421T154042
CREATED:20251119T152043Z
LAST-MODIFIED:20251119T152122Z
UID:6497-1768035600-1768091400@www.madriverskipatrol.org
SUMMARY:Midnight Madness - Double Hours
DESCRIPTION:Mad River’s signature Midnight Madness! \n\n\n\nMad River Mtn. will be open until midnight featuring lift ticket specials\, rental package specials\, and live music in The Loft! \n\n\n\nPatrollers clocking in on this date and clocking out after midnight will receive double hour credit for the shift
URL:https://www.madriverskipatrol.org/event/midnight-madness-double-hours
END:VEVENT
BEGIN:VEVENT
DTSTART;TZID=America/New_York:20260117T090000
DTEND;TZID=America/New_York:20260117T120000
DTSTAMP:20260421T154042
CREATED:20251202T015808Z
LAST-MODIFIED:20251202T015812Z
UID:6597-1768640400-1768651200@www.madriverskipatrol.org
SUMMARY:Junior Patrol
DESCRIPTION:We will meet out on the hill by the 4 Star lift line at 9 a.m.\, then have a ski or snowboard lesson. From about 10:30 to 11:30\, there will be an OEC lesson for the kids. They will learn how to bandage a wound\, some safety basics\, some intro to the human body\, and various other safety-related themes. After the OEC lesson\, there will be lunch. Each child needs to bring their own lunch\, and we will eat together in the Staff Room across the hall from the Aid Room. If you do bring something to share with the group\, please mark it appropriately (GF\, peanut-free\, etc.) for those with allergies.At noon\, the children will be ready to return to their parents for the rest of the day.
URL:https://www.madriverskipatrol.org/event/junior-patrol-8
LOCATION:Mad River Mountain Ski Resort\, 1000 Snow Valley Rd\, Zanesfield\, OH\, 43360\, United States
END:VEVENT
BEGIN:VEVENT
DTSTART;TZID=America/New_York:20260119T090000
DTEND;TZID=America/New_York:20260119T210000
DTSTAMP:20260421T154042
CREATED:20251119T154509Z
LAST-MODIFIED:20251119T154512Z
UID:6517-1768813200-1768856400@www.madriverskipatrol.org
SUMMARY:Holiday - Double Hours
DESCRIPTION:Patrollers clocked in and out on this day will receive double hour credit for the time they were on shift
URL:https://www.madriverskipatrol.org/event/holiday-double-hours-5
END:VEVENT
BEGIN:VEVENT
DTSTART;TZID=America/New_York:20260124T080000
DTEND;TZID=America/New_York:20260124T090000
DTSTAMP:20260421T154042
CREATED:20251202T023037Z
LAST-MODIFIED:20251202T023834Z
UID:6613-1769241600-1769245200@www.madriverskipatrol.org
SUMMARY:EPIC Passholders First Tracks
DESCRIPTION:Get exclusive first tracks on the fresh snow!
URL:https://www.madriverskipatrol.org/event/epic-passholders-first-tracks
END:VEVENT
BEGIN:VEVENT
DTSTART;TZID=America/New_York:20260124T090000
DTEND;TZID=America/New_York:20260124T120000
DTSTAMP:20260421T154042
CREATED:20251202T015718Z
LAST-MODIFIED:20251202T015722Z
UID:6595-1769245200-1769256000@www.madriverskipatrol.org
SUMMARY:Junior Patrol
DESCRIPTION:We will meet out on the hill by the 4 Star lift line at 9 a.m.\, then have a ski or snowboard lesson. From about 10:30 to 11:30\, there will be an OEC lesson for the kids. They will learn how to bandage a wound\, some safety basics\, some intro to the human body\, and various other safety-related themes. After the OEC lesson\, there will be lunch. Each child needs to bring their own lunch\, and we will eat together in the Staff Room across the hall from the Aid Room. If you do bring something to share with the group\, please mark it appropriately (GF\, peanut-free\, etc.) for those with allergies.At noon\, the children will be ready to return to their parents for the rest of the day.
URL:https://www.madriverskipatrol.org/event/junior-patrol-7
LOCATION:Mad River Mountain Ski Resort\, 1000 Snow Valley Rd\, Zanesfield\, OH\, 43360\, United States
END:VEVENT
BEGIN:VEVENT
DTSTART;TZID=America/New_York:20260124T090000
DTEND;TZID=America/New_York:20260125T003000
DTSTAMP:20260421T154042
CREATED:20251119T153110Z
LAST-MODIFIED:20251119T153828Z
UID:6499-1769245200-1769301000@www.madriverskipatrol.org
SUMMARY:Midnight Madness - Double Hours
DESCRIPTION:Mad River’s signature Midnight Madness! \n\n\n\nMad River Mtn. will be open until midnight featuring lift ticket specials\, rental package specials\, and live music in The Loft! \n\n\n\nPatrollers clocking in on this date and clocking out after midnight will receive double hour credit for the shift
URL:https://www.madriverskipatrol.org/event/midnight-madness-double-hours-2
END:VEVENT
BEGIN:VEVENT
DTSTART;TZID=America/New_York:20260129T090000
DTEND;TZID=America/New_York:20260129T140000
DTSTAMP:20260421T154042
CREATED:20251202T215532Z
LAST-MODIFIED:20251202T215535Z
UID:6625-1769677200-1769695200@www.madriverskipatrol.org
SUMMARY:MVP Program - Ski Clinic
DESCRIPTION:
URL:https://www.madriverskipatrol.org/event/mvp-program-ski-clinic
LOCATION:Mad River Mountain Ski Resort\, 1000 Snow Valley Rd\, Zanesfield\, OH\, 43360\, United States
END:VEVENT
BEGIN:VEVENT
DTSTART;TZID=America/New_York:20260130T090000
DTEND;TZID=America/New_York:20260130T140000
DTSTAMP:20260421T154042
CREATED:20251202T215654Z
LAST-MODIFIED:20251202T215657Z
UID:6628-1769763600-1769781600@www.madriverskipatrol.org
SUMMARY:MVP Program - Toboggan Clinic
DESCRIPTION:
URL:https://www.madriverskipatrol.org/event/mvp-program-toboggan-clinic
LOCATION:Mad River Mountain Ski Resort\, 1000 Snow Valley Rd\, Zanesfield\, OH\, 43360\, United States
END:VEVENT
BEGIN:VEVENT
DTSTART;TZID=America/New_York:20260131T080000
DTEND;TZID=America/New_York:20260131T170000
DTSTAMP:20260421T154042
CREATED:20251031T181644Z
LAST-MODIFIED:20260116T140013Z
UID:6360-1769846400-1769878800@www.madriverskipatrol.org
SUMMARY:SES - Ski Enhancement Seminar - MRM
DESCRIPTION:The Ohio Region Snowsports Team will be returning to MRM this year for great opportunity to spend a full day with experienced trainers from our region staff.  It’s a chance to enhance your skills in a supportive\, coached environment.  Register here:  https://www.ohionsp.org/ohio-region-events/snow-sports-enhancement. \n\n\n\nThere is a fee for this event\, a bargain for a full day of great instruction!  However\, you can request reimbursement for the fee if this is part of your training towards certification.  Contact Cheryl if questions.
URL:https://www.madriverskipatrol.org/event/ses-ski-enhancement-seminar-mrm
LOCATION:Mad River Mountain Ski Resort\, 1000 Snow Valley Rd\, Zanesfield\, OH\, 43360\, United States
END:VEVENT
BEGIN:VEVENT
DTSTART;TZID=America/New_York:20260131T090000
DTEND;TZID=America/New_York:20260131T120000
DTSTAMP:20260421T154042
CREATED:20251202T015625Z
LAST-MODIFIED:20251202T015628Z
UID:6593-1769850000-1769860800@www.madriverskipatrol.org
SUMMARY:Junior Patrol
DESCRIPTION:We will meet out on the hill by the 4 Star lift line at 9 a.m.\, then have a ski or snowboard lesson. From about 10:30 to 11:30\, there will be an OEC lesson for the kids. They will learn how to bandage a wound\, some safety basics\, some intro to the human body\, and various other safety-related themes. After the OEC lesson\, there will be lunch. Each child needs to bring their own lunch\, and we will eat together in the Staff Room across the hall from the Aid Room. If you do bring something to share with the group\, please mark it appropriately (GF\, peanut-free\, etc.) for those with allergies.At noon\, the children will be ready to return to their parents for the rest of the day.
URL:https://www.madriverskipatrol.org/event/junior-patrol-6
LOCATION:Mad River Mountain Ski Resort\, 1000 Snow Valley Rd\, Zanesfield\, OH\, 43360\, United States
END:VEVENT
BEGIN:VEVENT
DTSTART;TZID=America/New_York:20260131T090000
DTEND;TZID=America/New_York:20260201T003000
DTSTAMP:20260421T154042
CREATED:20251119T153211Z
LAST-MODIFIED:20251119T153739Z
UID:6501-1769850000-1769905800@www.madriverskipatrol.org
SUMMARY:Midnight Madness - Double Hours
DESCRIPTION:Mad River’s signature Midnight Madness! \n\n\n\nMad River Mtn. will be open until midnight featuring lift ticket specials\, rental package specials\, and live music in The Loft! \n\n\n\nPatrollers clocking in on this date and clocking out after midnight will receive double hour credit for the shift
URL:https://www.madriverskipatrol.org/event/midnight-madness-double-hours-3
END:VEVENT
BEGIN:VEVENT
DTSTART;TZID=America/New_York:20260131T160000
DTEND;TZID=America/New_York:20260131T200000
DTSTAMP:20260421T154042
CREATED:20251202T023633Z
LAST-MODIFIED:20251202T023815Z
UID:6619-1769875200-1769889600@www.madriverskipatrol.org
SUMMARY:Rail Jam
DESCRIPTION:
URL:https://www.madriverskipatrol.org/event/rail-jam-2
END:VEVENT
BEGIN:VEVENT
DTSTART;TZID=America/New_York:20260201T080000
DTEND;TZID=America/New_York:20260201T170000
DTSTAMP:20260421T154042
CREATED:20251031T181804Z
LAST-MODIFIED:20260104T175409Z
UID:6362-1769932800-1769965200@www.madriverskipatrol.org
SUMMARY:TES - Toboggan Enhancement Seminar - MRM
DESCRIPTION:The Ohio Region Toboggan Training Team will be coming to MRM for a full day of training!  At no cost to you there will be opportunity to train with some lead folks from our region on technique and strategies\, practicing on hill.  This is a great chance to enhance your skills.  Register at: https://www.ohionsp.org/ohio-region-events/toboggan-enhancement \n\n\n\nA TTW (Toboggan Traineers Workshop) will also be held the same day.  Mentoring and recert trainers can register here: https://www.ohionsp.org/ohio-region-events/ttw
URL:https://www.madriverskipatrol.org/event/tes-toboggan-enhancement-seminar-mrm
LOCATION:Mad River Mountain Ski Resort\, 1000 Snow Valley Rd\, Zanesfield\, OH\, 43360\, United States
END:VEVENT
BEGIN:VEVENT
DTSTART;TZID=America/New_York:20260207T090000
DTEND;TZID=America/New_York:20260207T120000
DTSTAMP:20260421T154042
CREATED:20251202T015530Z
LAST-MODIFIED:20251202T015532Z
UID:6589-1770454800-1770465600@www.madriverskipatrol.org
SUMMARY:Junior Patrol
DESCRIPTION:We will meet out on the hill by the 4 Star lift line at 9 a.m.\, then have a ski or snowboard lesson. From about 10:30 to 11:30\, there will be an OEC lesson for the kids. They will learn how to bandage a wound\, some safety basics\, some intro to the human body\, and various other safety-related themes. After the OEC lesson\, there will be lunch. Each child needs to bring their own lunch\, and we will eat together in the Staff Room across the hall from the Aid Room. If you do bring something to share with the group\, please mark it appropriately (GF\, peanut-free\, etc.) for those with allergies.At noon\, the children will be ready to return to their parents for the rest of the day.
URL:https://www.madriverskipatrol.org/event/junior-patrol-5
LOCATION:Mad River Mountain Ski Resort\, 1000 Snow Valley Rd\, Zanesfield\, OH\, 43360\, United States
END:VEVENT
END:VCALENDAR