BEGIN:VCALENDAR
VERSION:2.0
PRODID:-//MRM Ski Patrol - ECPv6.15.17.1//NONSGML v1.0//EN
CALSCALE:GREGORIAN
METHOD:PUBLISH
X-WR-CALNAME:MRM Ski Patrol
X-ORIGINAL-URL:https://www.madriverskipatrol.org
X-WR-CALDESC:Events for MRM Ski Patrol
REFRESH-INTERVAL;VALUE=DURATION:PT1H
X-Robots-Tag:noindex
X-PUBLISHED-TTL:PT1H
BEGIN:VTIMEZONE
TZID:America/New_York
BEGIN:DAYLIGHT
TZOFFSETFROM:-0500
TZOFFSETTO:-0400
TZNAME:EDT
DTSTART:20190310T070000
END:DAYLIGHT
BEGIN:STANDARD
TZOFFSETFROM:-0400
TZOFFSETTO:-0500
TZNAME:EST
DTSTART:20191103T060000
END:STANDARD
BEGIN:DAYLIGHT
TZOFFSETFROM:-0500
TZOFFSETTO:-0400
TZNAME:EDT
DTSTART:20200308T070000
END:DAYLIGHT
BEGIN:STANDARD
TZOFFSETFROM:-0400
TZOFFSETTO:-0500
TZNAME:EST
DTSTART:20201101T060000
END:STANDARD
BEGIN:DAYLIGHT
TZOFFSETFROM:-0500
TZOFFSETTO:-0400
TZNAME:EDT
DTSTART:20210314T070000
END:DAYLIGHT
BEGIN:STANDARD
TZOFFSETFROM:-0400
TZOFFSETTO:-0500
TZNAME:EST
DTSTART:20211107T060000
END:STANDARD
BEGIN:DAYLIGHT
TZOFFSETFROM:-0500
TZOFFSETTO:-0400
TZNAME:EDT
DTSTART:20220313T070000
END:DAYLIGHT
BEGIN:STANDARD
TZOFFSETFROM:-0400
TZOFFSETTO:-0500
TZNAME:EST
DTSTART:20221106T060000
END:STANDARD
BEGIN:DAYLIGHT
TZOFFSETFROM:-0500
TZOFFSETTO:-0400
TZNAME:EDT
DTSTART:20230312T070000
END:DAYLIGHT
BEGIN:STANDARD
TZOFFSETFROM:-0400
TZOFFSETTO:-0500
TZNAME:EST
DTSTART:20231105T060000
END:STANDARD
BEGIN:DAYLIGHT
TZOFFSETFROM:-0500
TZOFFSETTO:-0400
TZNAME:EDT
DTSTART:20240310T070000
END:DAYLIGHT
BEGIN:STANDARD
TZOFFSETFROM:-0400
TZOFFSETTO:-0500
TZNAME:EST
DTSTART:20241103T060000
END:STANDARD
BEGIN:DAYLIGHT
TZOFFSETFROM:-0500
TZOFFSETTO:-0400
TZNAME:EDT
DTSTART:20250309T070000
END:DAYLIGHT
BEGIN:STANDARD
TZOFFSETFROM:-0400
TZOFFSETTO:-0500
TZNAME:EST
DTSTART:20251102T060000
END:STANDARD
END:VTIMEZONE
BEGIN:VEVENT
DTSTART;TZID=America/New_York:20240302T080000
DTEND;TZID=America/New_York:20240302T170000
DTSTAMP:20260421T012522
CREATED:20240226T192100Z
LAST-MODIFIED:20240226T192156Z
UID:5049-1709366400-1709398800@www.madriverskipatrol.org
SUMMARY:MRM Spring Fling
DESCRIPTION:Pond scimming\, costume contests\, s’mores and more.  Click her to link to the MRM website for details Spring Fling
URL:https://www.madriverskipatrol.org/event/mrm-spring-fling
LOCATION:OH
END:VEVENT
BEGIN:VEVENT
DTSTART;TZID=America/New_York:20240225T080000
DTEND;TZID=America/New_York:20240225T170000
DTSTAMP:20260421T012522
CREATED:20231126T215914Z
LAST-MODIFIED:20231126T220254Z
UID:4656-1708848000-1708880400@www.madriverskipatrol.org
SUMMARY:Ohio Region Senior Toboggan Testing
DESCRIPTION:This year’s Senior Testing for Toboggan will be hosted at Boston Mills.  Note that this is a separate location and date from the Ski/Ride testing.  Go to the Ohio Region website for more information\, and make sure that  you are registered and review the latest information on the Senior Program via the Central Division Senior Information Area.
URL:https://www.madriverskipatrol.org/event/ohio-region-senior-toboggan-testing
LOCATION:OH
CATEGORIES:S&T
END:VEVENT
BEGIN:VEVENT
DTSTART;TZID=America/New_York:20240218T080000
DTEND;TZID=America/New_York:20240218T170000
DTSTAMP:20260421T012522
CREATED:20231126T220655Z
LAST-MODIFIED:20231126T220858Z
UID:4658-1708243200-1708275600@www.madriverskipatrol.org
SUMMARY:Ohio Region Senior Ski-Ride Testing
DESCRIPTION:This year’s senior testing for ski/ride will be held at Perfect North Slopes.  Note that this is a separate weekend and location from the toboggan testing.  Go to the Ohio Region Website for more event detail and the NSP Central division for all sorts of information on the Senior Program\, including registration for Senior which is done on the division website.
URL:https://www.madriverskipatrol.org/event/ohio-region-senior-ski-ride-testing
LOCATION:OH
CATEGORIES:S&T
END:VEVENT
BEGIN:VEVENT
DTSTART;TZID=America/New_York:20240211T090000
DTEND;TZID=America/New_York:20240211T150000
DTSTAMP:20260421T012522
CREATED:20231227T031516Z
LAST-MODIFIED:20231227T035839Z
UID:4763-1707642000-1707663600@www.madriverskipatrol.org
SUMMARY:OEC Enhancement Seminar
DESCRIPTION:MRM will be hosting an OEC Enhancement Seminar open to any patrol members.  This is a great opportunity to enhance your skills at any time\, and for those going working to attain senior status\, attendence at two of these seminar days will qualify as a senior elective. \n\n\n\nThis particular date is considered Seminar 1 and will cover Lower Extremity Injuries.  Another event will be held Jan 21. \n\n\n\nREGISTER HERE
URL:https://www.madriverskipatrol.org/event/oec-enhancement-seminar-2
LOCATION:Mad River Mountain Ski Resort\, 1000 Snow Valley Rd\, Zanesfield\, OH\, 43360\, United States
END:VEVENT
BEGIN:VEVENT
DTSTART;TZID=America/New_York:20240210T130000
DTEND;TZID=America/New_York:20240210T150000
DTSTAMP:20260421T012522
CREATED:20181129T180415Z
LAST-MODIFIED:20240118T193028Z
UID:2002-1707570000-1707577200@www.madriverskipatrol.org
SUMMARY:Ski Along - Interested in Becoming a Patroller?
DESCRIPTION:If you or anyone that you know is interested in patrolling – now is a great time!  Come to the Ski Along and find out more about MRM Ski Patrol.  For questions in the meantime\, check details on our website MORE INFO menu.  There is information about becoming a member\, and a list of frequently asked questions with associated responses.  Sign up with the link below to find out more and if you are ready to apply now the application is also provided. \nSign up for Ski Along \nApplication for Patrolling
URL:https://www.madriverskipatrol.org/event/ski-along-interested-in-becoming-a-patroller
LOCATION:Mad River Mountain Ski Resort\, 1000 Snow Valley Rd\, Zanesfield\, OH\, 43360\, United States
END:VEVENT
BEGIN:VEVENT
DTSTART;TZID=America/New_York:20240206T100000
DTEND;TZID=America/New_York:20240206T150000
DTSTAMP:20260421T012522
CREATED:20240122T205423Z
LAST-MODIFIED:20240122T205423Z
UID:4967-1707213600-1707231600@www.madriverskipatrol.org
SUMMARY:MVP (Most Valuable Patroller) Clinic
DESCRIPTION:Click below to find out more about this great clinic which is a new offering throughout the Central Division for patrollers 60 yrs or older.
URL:https://www.madriverskipatrol.org/event/mvp-most-valuable-patroller-clinic
LOCATION:OH
END:VEVENT
BEGIN:VEVENT
DTSTART;TZID=America/New_York:20240204T000000
DTEND;TZID=America/New_York:20240204T235959
DTSTAMP:20260421T012522
CREATED:20151010T235354Z
LAST-MODIFIED:20240104T202510Z
UID:433-1707004800-1707091199@www.madriverskipatrol.org
SUMMARY:TES - Toboggan Enhancement Seminar
DESCRIPTION:The TES is a region level event\, coming to MRM Feb 4th.  Whether you want to work on higher level skills in preparation for Senior testing\, or to enhance your day to day patrolling skills\, the TES has something for you!  Find out more on the OET page under Programs or if ready to sign up go here: Ohio Events Sign Up \nThere is also a wealth of info at the region website: OET – Ohio Region  \nFull listing of Region OET and Ski/Ride Events for 2024 season: \nEVENTS:Jan 3 Senior Scorecard Zoom Call. 7:30 pmJan 6 SES. @ Snow Trails 9 am startJan 7 TES/TTW @ Snow Trails 9 am startJan 20 SES @ Boston Mills 9 am startJan 21 TES/TTW @ Boston Mills 9 am startSR TE Calibration Toboggan 9-Noon\, Ski/Ride: Noon-4Jan 27 SES @ Paoli Peaks 9am startJan 28 TES/TTW @ Paoli Peaks 9 am startFeb 3 SES @ Mad River Mountain 9 am startFeb 4 TES/TTW @ Mad River Mountain. 9 am startFeb 10 SES @ Perfect North Slopes 9 am startFeb 11 TES/TTW @ Perfect North Slopes. 9 am startSR TE Calibration Toboggan 9-Noon\, Ski/Ride: Noon-4Feb 18 Senior Ski/Ride Evaluation. PNSFeb 25 Senior Toboggan Evaluation Boston Mills
URL:https://www.madriverskipatrol.org/event/tes-toboggan-enhancement-seminar
LOCATION:Mad River Mountain Ski Resort\, 1000 Snow Valley Rd\, Zanesfield\, OH\, 43360\, United States
CATEGORIES:OET
END:VEVENT
BEGIN:VEVENT
DTSTART;TZID=America/New_York:20240203T000000
DTEND;TZID=America/New_York:20240203T235959
DTSTAMP:20260421T012522
CREATED:20151202T173246Z
LAST-MODIFIED:20231222T002717Z
UID:664-1706918400-1707004799@www.madriverskipatrol.org
SUMMARY:SES - Ski Enhancement Seminar
DESCRIPTION:A fantastic opportunity to improve your ski/ride skills!!  Work with high level trainers from throughout the Ohio region.  Go to the Ohio Region Website to sign up.  SES opportunities at MRM and other areas include: \n\n1/6 – Snow Trails\n1/20 – Boston Mills / Brandywine\n1/27 – Paoli Peaks\n2/3 – MRM\n2/11 – Perfect North Slopes\n\nREGION EVENTS \nSee Chris R if questions.
URL:https://www.madriverskipatrol.org/event/ses-ski-enhancement-seminar
LOCATION:Mad River Mountain Ski Resort\, 1000 Snow Valley Rd\, Zanesfield\, OH\, 43360\, United States
CATEGORIES:S&T
END:VEVENT
BEGIN:VEVENT
DTSTART;TZID=America/New_York:20240121T090000
DTEND;TZID=America/New_York:20240121T150000
DTSTAMP:20260421T012522
CREATED:20231227T030955Z
LAST-MODIFIED:20231227T035735Z
UID:4759-1705827600-1705849200@www.madriverskipatrol.org
SUMMARY:OEC Enhancement Seminar
DESCRIPTION:MRM will be hosting an OEC Enhancement Seminar open to any patrol members.  This is a great opportunity to enhance your skills at any time\, and for those going working to attain senior status\, attendence at two of these seminar days will qualify as a senior elective. \n\n\n\nThis particular date is considered Seminar 3 and will cover Head\, Face\, Neck and Back Injuries.  Another event will be held Feb 11. \n\n\n\nREGISTER HERE
URL:https://www.madriverskipatrol.org/event/oec-enhancement-seminar
LOCATION:Mad River Mountain Ski Resort\, 1000 Snow Valley Rd\, Zanesfield\, OH\, 43360\, United States
END:VEVENT
BEGIN:VEVENT
DTSTART;VALUE=DATE:20231203
DTEND;VALUE=DATE:20231204
DTSTAMP:20260421T012522
CREATED:20230712T183541Z
LAST-MODIFIED:20230718T231810Z
UID:4268-1701561600-1701647999@www.madriverskipatrol.org
SUMMARY:OEC: Aid Room Module Testing
DESCRIPTION:The senior level OEC testing for the Aid Room Module will be held at Mad River on Dec 3\, following the OEC module which may also have some carry over items.  Please contact Jim Vickroy if interested in participating.
URL:https://www.madriverskipatrol.org/event/oec-aid-room-module-testing
LOCATION:Mad River Mountain Ski Resort\, 1000 Snow Valley Rd\, Zanesfield\, OH\, 43360\, United States
CATEGORIES:OEC
END:VEVENT
BEGIN:VEVENT
DTSTART;VALUE=DATE:20231021
DTEND;VALUE=DATE:20231022
DTSTAMP:20260421T012522
CREATED:20230712T182338Z
LAST-MODIFIED:20230915T202329Z
UID:4264-1697846400-1697932799@www.madriverskipatrol.org
SUMMARY:MRM Ski Swap Set Up Day
DESCRIPTION:The swap / fall festival is Oct 22 – this calendar reminder is for set up that will be required the day before.  Please sign up to help as this will be our main fundraiser for the upcoming season! \nAll Patrollers\, please sign up using the following link to commit to your volunteer time for the swap and/or set up.  \nPatroller Volunteer SIGN UP.
URL:https://www.madriverskipatrol.org/event/mrm-ski-swap-set-up-day
LOCATION:OH
END:VEVENT
BEGIN:VEVENT
DTSTART;TZID=America/New_York:20230312T100000
DTEND;TZID=America/New_York:20230312T170000
DTSTAMP:20260421T012522
CREATED:20220216T200921Z
LAST-MODIFIED:20230226T151411Z
UID:3613-1678615200-1678640400@www.madriverskipatrol.org
SUMMARY:Season Closing - Get Your Gear!
DESCRIPTION:Our final day of the season is currently scheduled as March 12.  So please plan accordingly with ALL personal gear out of the bootroom etc by that date.  Vail has security alarms when not open and that DOES include the patrol room.  If you don’t get everything you need cleared out by final close it will become very difficult to arrange after that.
URL:https://www.madriverskipatrol.org/event/season-closing-get-your-gear
LOCATION:Mad River Mountain Ski Resort\, 1000 Snow Valley Rd\, Zanesfield\, OH\, 43360\, United States
CATEGORIES:MRM General
END:VEVENT
BEGIN:VEVENT
DTSTART;TZID=America/New_York:20230305T130000
DTEND;TZID=America/New_York:20230305T150000
DTSTAMP:20260421T012522
CREATED:20230129T210132Z
LAST-MODIFIED:20240115T145017Z
UID:4155-1678021200-1678028400@www.madriverskipatrol.org
SUMMARY:Ski Along - For Those Interested in Joining Patrol
DESCRIPTION:If you or anyone that you know is interested in patrolling – now is a great time!  Come to the Ski Along and find out more about MRM Ski Patrol.  For questions in the meantime\, check details on our website under the main tab for MRM Patrol Info.  There is information about becoming a member\, and a list of frequently asked questions with associated responses.  Sign up with the link below to find out more.\n\nSign up for Ski Along\n\nApplication for Patrolling\n\n 
URL:https://www.madriverskipatrol.org/event/ski-along-for-those-interested-in-joining-patrol
LOCATION:OH
END:VEVENT
BEGIN:VEVENT
DTSTART;VALUE=DATE:20230128
DTEND;VALUE=DATE:20230130
DTSTAMP:20260421T012522
CREATED:20161019T020751Z
LAST-MODIFIED:20221228T165841Z
UID:1078-1674864000-1675036799@www.madriverskipatrol.org
SUMMARY:Central Division Women's Clinic
DESCRIPTION:2023 Women’s Clinic\nHello Ladies of the Central Division!\nThe mission of the Central Division Women’s Program is:\n\n\nTo share passion with the purpose of encouraging and supporting other NSP women in a nurturing environment.\n\n\nTo build participants’ confidence to accept the challenges of leadership roles and improve their personal skill set.\n\n\nTo encourage active recruiting of women in the NSP.\n\n\nAs a result of a women’s focused program there is a conscious effort to see more women step up into instructor roles\, mentoring roles\, and leadership roles. The building of confidence\, expansion of horizons\, and mentoring in leadership provides a strong role model of women in the NSP. The women of the Central Division carry on the mission of the Women’s Program\, develop more leaders and promote recruitment of new women members in the NSP. \nOur annual Women’s Clinic will be held at: \nCascade Ski Resort in Wisconsin\nJanuary 27-29\n \nYour coaches for the weekend are there for you! This is what makes this clinic so unique – the staff (your coaches) have an agenda to help you move to your next level. We want to help you get out of your comfort zone in a nurturing and encouraging environment. \nOf course\, FUN is a big part of our objective! Just getting 40 or so ladies together\, sliding on the snow\, enjoying the friendships and networking. That is what the weekend is all about\, plus the great coaching from our highly qualified PSIA Certified Ski Instructors and NSP Toboggan Certified Instructors. \nThe rotation of the annual Women’s Clinic is designed to move the clinic around the Central Division. You can also find out more program information on the Central division website Women’s Program
URL:https://www.madriverskipatrol.org/event/central-division-womens-clinic
LOCATION:OH
CATEGORIES:S&T
END:VEVENT
BEGIN:VEVENT
DTSTART;TZID=America/New_York:20230108T080000
DTEND;TZID=America/New_York:20230108T170000
DTSTAMP:20260421T012522
CREATED:20221019T184526Z
LAST-MODIFIED:20221019T184526Z
UID:3871-1673164800-1673197200@www.madriverskipatrol.org
SUMMARY:SnowSports Trainers Workshop
DESCRIPTION:OET and NSP-C will be offering a joint trainers workshop this year focusing on movement analysis\, teaching techniques\, demos\, and developing progressions we can use to more effectively train our candidates.  The first portion will be via Zoom on MA November 29 7:30-9pm.  Contact your OEC or Snowsports Advisor for more info.
URL:https://www.madriverskipatrol.org/event/snowsports-trainers-workshop
LOCATION:Boston Mills Ski Resort\, 7100 Riverview Rd\, Peninsula\, OH\, 44264\, United States
END:VEVENT
BEGIN:VEVENT
DTSTART;VALUE=DATE:20221217
DTEND;VALUE=DATE:20221218
DTSTAMP:20260421T012522
CREATED:20151230T210114Z
LAST-MODIFIED:20221112T214517Z
UID:698-1671235200-1671321599@www.madriverskipatrol.org
SUMMARY:Mad River Mountain Opening
DESCRIPTION:Vail has announced 22-23 season open dates\, including MRM.  Stay tuned for further details as the time arrives. \nIn the meantime\, check here for reminders of Safety and other requirements needed before you start your season\, in addition to refreshers\, CPR\, and charilift evac. \nRequirements
URL:https://www.madriverskipatrol.org/event/mad-river-mountain-opening
LOCATION:Mad River Mountain Ski Resort\, 1000 Snow Valley Rd\, Zanesfield\, OH\, 43360\, United States
CATEGORIES:MRM General
END:VEVENT
BEGIN:VEVENT
DTSTART;VALUE=DATE:20221210
DTEND;VALUE=DATE:20221212
DTSTAMP:20260421T012522
CREATED:20181204T151338Z
LAST-MODIFIED:20221112T215618Z
UID:2007-1670630400-1670803199@www.madriverskipatrol.org
SUMMARY:Central Division Ski Patrol Festival
DESCRIPTION:The Ohio Region has shared information about an updated workshop hosted by the division.  There are several opportunities open to patrollers for sign up\, others are invitation only.  See more information on the region website.  Patrol Festival \n  \n  \n  \n  \n  \n  \n  \n  \n 
URL:https://www.madriverskipatrol.org/event/asdw-alpine-skills-development-workshop-ohio-region
LOCATION:Boyne Highlands\, MI
CATEGORIES:S&T
END:VEVENT
BEGIN:VEVENT
DTSTART;VALUE=DATE:20221001
DTEND;VALUE=DATE:20221003
DTSTAMP:20260421T012522
CREATED:20160215T031403Z
LAST-MODIFIED:20220313T234405Z
UID:830-1664582400-1664755199@www.madriverskipatrol.org
SUMMARY:Midwest Outdoor Experience
DESCRIPTION:The Subaru Outdoor Experience is one of MRM Ski Patrol’s fund raising activities.  VOLUNTEER HERE
URL:https://www.madriverskipatrol.org/event/midwest-outdoor-experience
LOCATION:OH
CATEGORIES:MRM General
END:VEVENT
BEGIN:VEVENT
DTSTART;VALUE=DATE:20220909
DTEND;VALUE=DATE:20220912
DTSTAMP:20260421T012522
CREATED:20160808T170054Z
LAST-MODIFIED:20220824T133906Z
UID:1009-1662681600-1662940799@www.madriverskipatrol.org
SUMMARY:Central Division Meeting
DESCRIPTION:The Central Division of the National Ski Patrol holds a meeting and awards banquet every September that rotates among the eight regions.  This year the event will be held in Midland\, MI from Fri Sept 9 – Sunday Sept 11.  See nspcentral.org for more information.
URL:https://www.madriverskipatrol.org/event/central-division-meeting
LOCATION:OH
CATEGORIES:MRM General
END:VEVENT
BEGIN:VEVENT
DTSTART;TZID=America/New_York:20220901T200000
DTEND;TZID=America/New_York:20220901T210000
DTSTAMP:20260421T012522
CREATED:20210825T200946Z
LAST-MODIFIED:20220826T002811Z
UID:3001-1662062400-1662066000@www.madriverskipatrol.org
SUMMARY:Mountain Host Info Session (Zoom call)
DESCRIPTION:Greetings Everyone\, \nI wanted to send out a quick email this morning about an exciting event that is coming up for future Mad River Mountain Hosts’. \nOn Thursday\, September 1 @ 8pm\, we will be hosting a 2022-23 Mountain Host Info Session. It is a virtual event that will be hosted via Zoom. Every year we try and get the potential Mountain Host together and provide some information as well as answer any questions that they may have regarding the patrol\, or the program. I would expect the event to last about an hour and there is NO season commitment required at the meeting. \nIf you are available and interested in attending\, please let me know by sending a quick email or text to myself. (recruiting@madriverskipatrol.org / 614-572-6002). \nZoom Link Info: This will put you into a waiting area for admittance\, so make sure I have your name in advance please. \n  \nTime: Sep 1\, 2022 08:00 PM Eastern Time (US and Canada) \nJoin Zoom Meeting \nhttps://us06web.zoom.us/j/83123853602 \nMeeting ID: 831 2385 3602 \nIf you have any questions or concerns regarding the meeting\, please don’t hesitate to email myself and Wally Taylor\, MRM Patrol Director. (recruiting@madriverskipatrol.org / wtaylor@madriverskipatrol.org) \n  \n_______________________________________________________ \n 
URL:https://www.madriverskipatrol.org/event/mountain-host-info-session-zoom-call
LOCATION:ZOOM Call
CATEGORIES:Mountain Hosts,MRM General
END:VEVENT
BEGIN:VEVENT
DTSTART;TZID=America/New_York:20220130T090000
DTEND;TZID=America/New_York:20220130T160000
DTSTAMP:20260421T012522
CREATED:20170123T181949Z
LAST-MODIFIED:20220108T144815Z
UID:1391-1643533200-1643558400@www.madriverskipatrol.org
SUMMARY:Toboggan Enhancement Seminar
DESCRIPTION:Ohio Region Outdoor Emergency Transportation Instructor Trainers will be visiting Mad River Mountain just for you! A group of awesome Instructor Trainers will be here on Sunday\, Jan 30th for a full day of clinics. Please reserve your spot by going to https://www.ohionsp.org/event-registration and registering for the Toboggan Enhancement Seminar (TES) at Mad River Mountain. \nIf you have any questions\, please reach out to either Marty Collins or any MRMSP Snowsports School Instructor for more information.
URL:https://www.madriverskipatrol.org/event/toboggan-enhancement-seminar
LOCATION:Mad River Mountain Ski Resort\, 1000 Snow Valley Rd\, Zanesfield\, OH\, 43360\, United States
CATEGORIES:S&T
END:VEVENT
BEGIN:VEVENT
DTSTART;TZID=America/New_York:20220129T090000
DTEND;TZID=America/New_York:20220129T160000
DTSTAMP:20260421T012522
CREATED:20170123T181808Z
LAST-MODIFIED:20220108T144648Z
UID:1388-1643446800-1643472000@www.madriverskipatrol.org
SUMMARY:Ski/Ride Enhancement Seminar at MRM
DESCRIPTION:All\, \nThe NSP-C Ohio Region Snowsports School will be visiting Mad River Mountain just for you! A group of awesome instructors will be here for a full day of clinics. Please reserve your spot by going to Ohio Region Snowsports and registering for the Snowsports Enhancement Seminar (SES) at Mad River Mountain.  It’s a great way to enhance your skiing or riding skills whether to help prepare for testing or simply to have more fun with confidence on the slopes!  Note that there is a whole series of ski/ride events in Jan and Feb and you are free to attend events at other locations.  Invest in yourself!  It’s only $25 for a full day of instruction with a free lift ticket wherever the event is held. \nIf you have any questions\, please reach out to either Marty Collins or any MRMSP Snowsports School Instructor for more information.
URL:https://www.madriverskipatrol.org/event/ski-enhancement-seminar
LOCATION:Mad River Mountain Ski Resort\, 1000 Snow Valley Rd\, Zanesfield\, OH\, 43360\, United States
CATEGORIES:S&T
END:VEVENT
BEGIN:VEVENT
DTSTART;TZID=America/New_York:20211212T190000
DTEND;TZID=America/New_York:20211212T200000
DTSTAMP:20260421T012522
CREATED:20211010T213651Z
LAST-MODIFIED:20211209T174116Z
UID:3119-1639335600-1639339200@www.madriverskipatrol.org
SUMMARY:Hill Leader/AHL Zoom Meeting
DESCRIPTION:This Zoom call will be set up to review Operational plans for the upcoming year.  Call information follows: \nJoin Zoom Meeting Direct Link \nMeeting ID: 880 6888 6793\,  Passcode: 555471 \nOne tap mobile +13126266799\,\,88068886793#\,\,\,\,*555471# US (Chicago) \nYou will be initially in a waiting room to confirm attendence.
URL:https://www.madriverskipatrol.org/event/hill-leader-ahl-zoom-call
LOCATION:OH
CATEGORIES:MRM General
END:VEVENT
BEGIN:VEVENT
DTSTART;TZID=America/New_York:20211211T090000
DTEND;TZID=America/New_York:20211211T120000
DTSTAMP:20260421T012522
CREATED:20211122T210715Z
LAST-MODIFIED:20211122T210715Z
UID:3248-1639213200-1639224000@www.madriverskipatrol.org
SUMMARY:Mini FUCU
DESCRIPTION:Thanks to earlier efforts\, this Fix-Up\, Clean-Up is expected to go quickly – with focus on final preparations of the aid room and boot up room.   Email Tom if you are able to assist (tom@tavgroup.net).  Expected to need morning only.
URL:https://www.madriverskipatrol.org/event/mini-fucu
LOCATION:Mad River Mountain Ski Resort\, 1000 Snow Valley Rd\, Zanesfield\, OH\, 43360\, United States
CATEGORIES:MRM General
END:VEVENT
BEGIN:VEVENT
DTSTART;TZID=America/New_York:20211114T090000
DTEND;TZID=America/New_York:20211114T150000
DTSTAMP:20260421T012522
CREATED:20210311T222330Z
LAST-MODIFIED:20211122T210939Z
UID:2796-1636880400-1636902000@www.madriverskipatrol.org
SUMMARY:OEC Class Final
DESCRIPTION:Update that the final OEC Practical Test will occur Sunday November 14th.  If you are available to assist\, please reach out to Bob or Marty.  See below for more detail. \nOEC Classes have been  held weekly on Wednesday evenings from June 9 to Nov 3 to cover chapter work and skill sets.  Zoom classes are also held on Monday evenings as needed for textbook review until Oct.  If interested in helping out\, please contact Bob Carpenter (Instructor of Record) or Marty Collins (Proficiency APD).
URL:https://www.madriverskipatrol.org/event/oec-classes
LOCATION:Mad River Mountain Ski Resort\, 1000 Snow Valley Rd\, Zanesfield\, OH\, 43360\, United States
CATEGORIES:OEC
END:VEVENT
BEGIN:VEVENT
DTSTART;TZID=America/New_York:20211107T100000
DTEND;TZID=America/New_York:20211107T110000
DTSTAMP:20260421T012522
CREATED:20170829T022349Z
LAST-MODIFIED:20211025T192207Z
UID:1633-1636279200-1636282800@www.madriverskipatrol.org
SUMMARY:Hill Leader On Site Meeting
DESCRIPTION:Hill Leaders are asked to attend an on site meeting to review policies and procedures for the upcoming year.  This will immediately follow the On The Hill activities.  Contact Tom T with any questions
URL:https://www.madriverskipatrol.org/event/hill-leader-meeting
LOCATION:Mad River Mountain Ski Resort\, 1000 Snow Valley Rd\, Zanesfield\, OH\, 43360\, United States
CATEGORIES:MRM General
END:VEVENT
BEGIN:VEVENT
DTSTART;TZID=America/New_York:20211107T080000
DTEND;TZID=America/New_York:20211107T110000
DTSTAMP:20260421T012522
CREATED:20211009T141506Z
LAST-MODIFIED:20211009T141716Z
UID:3103-1636272000-1636282800@www.madriverskipatrol.org
SUMMARY:CPR Certification
DESCRIPTION:All patrollers that need CPR re-certification this year should attend this session on November 7.  Details can be found via this direct link:  CPR Certification \nYou can also access from the main menu under Program Resources > OEC > CPR \n 
URL:https://www.madriverskipatrol.org/event/cpr-certification
LOCATION:OH
END:VEVENT
BEGIN:VEVENT
DTSTART;VALUE=DATE:20211023
DTEND;VALUE=DATE:20211024
DTSTAMP:20260421T012522
CREATED:20170131T181604Z
LAST-MODIFIED:20211018T234026Z
UID:1407-1634947200-1635033599@www.madriverskipatrol.org
SUMMARY:Ohio Region Fall Mtg - Cancelled
DESCRIPTION:Unfortunately this in person region meeting and banquet has been cancelled.   Visit the Ohio Region Website more information about upcoming programs. \n 
URL:https://www.madriverskipatrol.org/event/ohio-region-annual-banquet-and-spring-meeting
LOCATION:Perfect North Ski Slopes\, 19074 Perfect Lane\, Lawrenceburg\, IN\, 47025\, United States
CATEGORIES:MRM General
END:VEVENT
BEGIN:VEVENT
DTSTART;TZID=America/New_York:20210314T160000
DTEND;TZID=America/New_York:20210314T190000
DTSTAMP:20260421T012522
CREATED:20200311T175547Z
LAST-MODIFIED:20210309T141723Z
UID:2363-1615737600-1615748400@www.madriverskipatrol.org
SUMMARY:Chair Lift Evac Refresher
DESCRIPTION:Sunday\, September 20 is our currently planned session for Lift Evac refreshing.  Exact determination of how this will work to comply with COVID restrictions is in process.  The lift evac will take place at 4pm when the area closes up for the season. \nYou must sign the liability release to participate.  LIABILITY RELEASE
URL:https://www.madriverskipatrol.org/event/chair-lift-evac-spring-training
LOCATION:Mad River Mountain Ski Resort\, 1000 Snow Valley Rd\, Zanesfield\, OH\, 43360\, United States
CATEGORIES:MRM General
END:VEVENT
BEGIN:VEVENT
DTSTART;TZID=America/New_York:20201115T140000
DTEND;TZID=America/New_York:20201115T170000
DTSTAMP:20260421T012522
CREATED:20201030T182018Z
LAST-MODIFIED:20201030T183040Z
UID:2398-1605448800-1605459600@www.madriverskipatrol.org
SUMMARY:CPR Training: Candidates & Mountain Hosts
DESCRIPTION:Candidate for Mountain Hosting and OEC Candidates will be held on Sunday from 2-5pm.  Location access pending approval for MRM.
URL:https://www.madriverskipatrol.org/event/cpr-training-candidates-mountain-hosts
LOCATION:Mad River Mountain Ski Resort\, 1000 Snow Valley Rd\, Zanesfield\, OH\, 43360\, United States
CATEGORIES:OEC
END:VEVENT
END:VCALENDAR